BEGIN:VCALENDAR
VERSION:2.0
PRODID:-//Great Missenden Baptist Church - ECPv6.15.20//NONSGML v1.0//EN
CALSCALE:GREGORIAN
METHOD:PUBLISH
X-WR-CALNAME:Great Missenden Baptist Church
X-ORIGINAL-URL:https://greatmissendenbaptistchurch.com
X-WR-CALDESC:Events for Great Missenden Baptist Church
REFRESH-INTERVAL;VALUE=DURATION:PT1H
X-Robots-Tag:noindex
X-PUBLISHED-TTL:PT1H
BEGIN:VTIMEZONE
TZID:UTC
BEGIN:STANDARD
TZOFFSETFROM:+0000
TZOFFSETTO:+0000
TZNAME:UTC
DTSTART:20230101T000000
END:STANDARD
END:VTIMEZONE
BEGIN:VEVENT
DTSTART;TZID=UTC:20241209T193000
DTEND;TZID=UTC:20241209T213000
DTSTAMP:20260424T121202
CREATED:20241204T151258Z
LAST-MODIFIED:20241204T151313Z
UID:1395-1733772600-1733779800@greatmissendenbaptistchurch.com
SUMMARY:Film Night
DESCRIPTION:Join us to enjoy the film “A Christmas Carol” showing in the church. Film begins at 7.30pm with refreshments available. Free event. \nFilm Night – 09 12 2024 poster Christmas Carol
URL:https://greatmissendenbaptistchurch.com/event/film-night-4/
LOCATION:Church
END:VEVENT
END:VCALENDAR