BEGIN:VCALENDAR
VERSION:2.0
PRODID:-//Great Missenden Baptist Church - ECPv6.15.20//NONSGML v1.0//EN
CALSCALE:GREGORIAN
METHOD:PUBLISH
X-ORIGINAL-URL:https://greatmissendenbaptistchurch.com
X-WR-CALDESC:Events for Great Missenden Baptist Church
REFRESH-INTERVAL;VALUE=DURATION:PT1H
X-Robots-Tag:noindex
X-PUBLISHED-TTL:PT1H
BEGIN:VTIMEZONE
TZID:UTC
BEGIN:STANDARD
TZOFFSETFROM:+0000
TZOFFSETTO:+0000
TZNAME:UTC
DTSTART:20240101T000000
END:STANDARD
END:VTIMEZONE
BEGIN:VEVENT
DTSTART;TZID=UTC:20250726T093000
DTEND;TZID=UTC:20250726T110000
DTSTAMP:20260422T031825
CREATED:20250630T124151Z
LAST-MODIFIED:20250630T124151Z
UID:1565-1753522200-1753527600@greatmissendenbaptistchurch.com
SUMMARY:Breakfast and Talk
DESCRIPTION:Join us for a late breakfast or early brunch\, depending on your usual Saturday routine! There will be a selection of pastries and similar available to everyone\, with a talk from Philip and Rosemary\, on their work as missionaries. Booking is essential and there is a cost of £3\, which may be waived if necessary. Please see leaflet for more details of how to book. \nGMBC brunch poster 26 07 2025
URL:https://greatmissendenbaptistchurch.com/event/breakfast-and-talk-7/
LOCATION:Church Hall
END:VEVENT
END:VCALENDAR