BEGIN:VCALENDAR
VERSION:2.0
PRODID:-//Great Missenden Baptist Church - ECPv6.15.20//NONSGML v1.0//EN
CALSCALE:GREGORIAN
METHOD:PUBLISH
X-WR-CALNAME:Great Missenden Baptist Church
X-ORIGINAL-URL:https://greatmissendenbaptistchurch.com
X-WR-CALDESC:Events for Great Missenden Baptist Church
REFRESH-INTERVAL;VALUE=DURATION:PT1H
X-Robots-Tag:noindex
X-PUBLISHED-TTL:PT1H
BEGIN:VTIMEZONE
TZID:UTC
BEGIN:STANDARD
TZOFFSETFROM:+0000
TZOFFSETTO:+0000
TZNAME:UTC
DTSTART:20240101T000000
END:STANDARD
END:VTIMEZONE
BEGIN:VEVENT
DTSTART;TZID=UTC:20250814T110000
DTEND;TZID=UTC:20250814T130000
DTSTAMP:20260422T014921
CREATED:20250811T154148Z
LAST-MODIFIED:20250811T154210Z
UID:1583-1755169200-1755176400@greatmissendenbaptistchurch.com
SUMMARY:All age film
DESCRIPTION:Come along and watch a film\, suitable for all ages. Begins at 11.00am with buffet lunch served afterwards. Free event – donations only. \nFamily film poster 14th August
URL:https://greatmissendenbaptistchurch.com/event/all-age-film-4/
LOCATION:Great Missenden Baptist Church
END:VEVENT
END:VCALENDAR