BEGIN:VCALENDAR
VERSION:2.0
PRODID:-//Great Missenden Baptist Church - ECPv6.15.20//NONSGML v1.0//EN
CALSCALE:GREGORIAN
METHOD:PUBLISH
X-ORIGINAL-URL:https://greatmissendenbaptistchurch.com
X-WR-CALDESC:Events for Great Missenden Baptist Church
REFRESH-INTERVAL;VALUE=DURATION:PT1H
X-Robots-Tag:noindex
X-PUBLISHED-TTL:PT1H
BEGIN:VTIMEZONE
TZID:UTC
BEGIN:STANDARD
TZOFFSETFROM:+0000
TZOFFSETTO:+0000
TZNAME:UTC
DTSTART:20240101T000000
END:STANDARD
END:VTIMEZONE
BEGIN:VEVENT
DTSTART;TZID=UTC:20250828T110000
DTEND;TZID=UTC:20250828T130000
DTSTAMP:20260422T015050
CREATED:20250811T154451Z
LAST-MODIFIED:20250811T154451Z
UID:1591-1756378800-1756386000@greatmissendenbaptistchurch.com
SUMMARY:All age film
DESCRIPTION:Come and watch a film\, suitable for all ages. Begins at 11.00am with buffet lunch served afterwards. Free event – donations only. \nFamily film poster 28th August
URL:https://greatmissendenbaptistchurch.com/event/all-age-film-6/
LOCATION:Great Missenden Baptist Church
END:VEVENT
END:VCALENDAR