BEGIN:VCALENDAR
VERSION:2.0
PRODID:-//Great Missenden Baptist Church - ECPv6.15.20//NONSGML v1.0//EN
CALSCALE:GREGORIAN
METHOD:PUBLISH
X-WR-CALNAME:Great Missenden Baptist Church
X-ORIGINAL-URL:https://greatmissendenbaptistchurch.com
X-WR-CALDESC:Events for Great Missenden Baptist Church
REFRESH-INTERVAL;VALUE=DURATION:PT1H
X-Robots-Tag:noindex
X-PUBLISHED-TTL:PT1H
BEGIN:VTIMEZONE
TZID:UTC
BEGIN:STANDARD
TZOFFSETFROM:+0000
TZOFFSETTO:+0000
TZNAME:UTC
DTSTART:20240101T000000
END:STANDARD
END:VTIMEZONE
BEGIN:VEVENT
DTSTART;TZID=UTC:20251122T090000
DTEND;TZID=UTC:20251122T103000
DTSTAMP:20260421T210343
CREATED:20251112T095157Z
LAST-MODIFIED:20251112T095157Z
UID:1655-1763802000-1763807400@greatmissendenbaptistchurch.com
SUMMARY:Breakfast and Quiz
DESCRIPTION:Come along to our breakfast and quiz\, in aid of Tearfund charity. Cost is £5 to include either a cooked or continental breakfast. Booking is required. \nGMBC breakfast poster 22 11 2025
URL:https://greatmissendenbaptistchurch.com/event/breakfast-and-quiz/
LOCATION:Church
END:VEVENT
END:VCALENDAR