BEGIN:VCALENDAR
VERSION:2.0
PRODID:-//Great Missenden Baptist Church - ECPv6.15.20//NONSGML v1.0//EN
CALSCALE:GREGORIAN
METHOD:PUBLISH
X-ORIGINAL-URL:https://greatmissendenbaptistchurch.com
X-WR-CALDESC:Events for Great Missenden Baptist Church
REFRESH-INTERVAL;VALUE=DURATION:PT1H
X-Robots-Tag:noindex
X-PUBLISHED-TTL:PT1H
BEGIN:VTIMEZONE
TZID:UTC
BEGIN:STANDARD
TZOFFSETFROM:+0000
TZOFFSETTO:+0000
TZNAME:UTC
DTSTART:20250101T000000
END:STANDARD
END:VTIMEZONE
BEGIN:VEVENT
DTSTART;TZID=UTC:20260306T140000
DTEND;TZID=UTC:20260306T160000
DTSTAMP:20260421T143850
CREATED:20260220T123359Z
LAST-MODIFIED:20260220T123359Z
UID:1722-1772805600-1772812800@greatmissendenbaptistchurch.com
SUMMARY:Tea and Games
DESCRIPTION:Come and join us to play a selection of board or card games\, or simply chat with friendly people.  Refreshments served at 3.00pm.
URL:https://greatmissendenbaptistchurch.com/event/tea-and-games-59/
LOCATION:Fellowship Room
END:VEVENT
END:VCALENDAR