BEGIN:VCALENDAR
VERSION:2.0
PRODID:-//Great Missenden Baptist Church - ECPv6.15.20//NONSGML v1.0//EN
CALSCALE:GREGORIAN
METHOD:PUBLISH
X-ORIGINAL-URL:https://greatmissendenbaptistchurch.com
X-WR-CALDESC:Events for Great Missenden Baptist Church
REFRESH-INTERVAL;VALUE=DURATION:PT1H
X-Robots-Tag:noindex
X-PUBLISHED-TTL:PT1H
BEGIN:VTIMEZONE
TZID:UTC
BEGIN:STANDARD
TZOFFSETFROM:+0000
TZOFFSETTO:+0000
TZNAME:UTC
DTSTART:20250101T000000
END:STANDARD
END:VTIMEZONE
BEGIN:VEVENT
DTSTART;TZID=UTC:20260320T140000
DTEND;TZID=UTC:20260320T160000
DTSTAMP:20260421T143947
CREATED:20260220T123604Z
LAST-MODIFIED:20260220T123604Z
UID:1724-1774015200-1774022400@greatmissendenbaptistchurch.com
SUMMARY:Tea and Games
DESCRIPTION:Come and join us to play a selection of board and card games\, or simply to chat with friendly people.  Refreshments served at 3.00pm.
URL:https://greatmissendenbaptistchurch.com/event/tea-and-games-60/
LOCATION:Fellowship Room
END:VEVENT
END:VCALENDAR