BEGIN:VCALENDAR
VERSION:2.0
PRODID:-//Great Missenden Baptist Church - ECPv6.15.20//NONSGML v1.0//EN
CALSCALE:GREGORIAN
METHOD:PUBLISH
X-WR-CALNAME:Great Missenden Baptist Church
X-ORIGINAL-URL:https://greatmissendenbaptistchurch.com
X-WR-CALDESC:Events for Great Missenden Baptist Church
REFRESH-INTERVAL;VALUE=DURATION:PT1H
X-Robots-Tag:noindex
X-PUBLISHED-TTL:PT1H
BEGIN:VTIMEZONE
TZID:UTC
BEGIN:STANDARD
TZOFFSETFROM:+0000
TZOFFSETTO:+0000
TZNAME:UTC
DTSTART:20240101T000000
END:STANDARD
END:VTIMEZONE
BEGIN:VEVENT
DTSTART;TZID=UTC:20260420T193000
DTEND;TZID=UTC:20260420T213000
DTSTAMP:20260421T174945
CREATED:20260420T082110Z
LAST-MODIFIED:20260420T082110Z
UID:1763-1776713400-1776720600@greatmissendenbaptistchurch.com
SUMMARY:Film Night
DESCRIPTION:[vc_row type=”in_container” full_screen_row_position=”middle” column_margin=”default” column_direction=”default” column_direction_tablet=”default” column_direction_phone=”default” scene_position=”center” text_color=”dark” text_align=”left” row_border_radius=”none” row_border_radius_applies=”bg” row_position_desktop=”default” row_position_tablet=”inherit” row_position_phone=”inherit” overflow=”visible” overlay_strength=”0.3″ gradient_direction=”left_to_right” shape_divider_position=”bottom” bg_image_animation=”none”][vc_column column_padding=”no-extra-padding” column_padding_tablet=”inherit” column_padding_phone=”inherit” column_padding_position=”all” flex_gap_desktop=”10px” column_element_direction_desktop=”default” column_element_spacing=”default” desktop_text_alignment=”default” tablet_text_alignment=”default” phone_text_alignment=”default” background_color_opacity=”1″ background_hover_color_opacity=”1″ column_backdrop_filter=”none” column_shadow=”none” column_border_radius=”none” column_link_target=”_self” column_position=”default” gradient_direction=”left_to_right” overlay_strength=”0.3″ width=”1/1″ tablet_width_inherit=”default” animation_type=”default” bg_image_animation=”none” border_type=”simple” column_border_width=”none” column_border_style=”solid”][vc_column_text css=”” text_direction=”default”]We are showing a film in Great Missenden Baptist Church at 7.30pm.  We cannot advertise the title of the film but a clue is “Deities must be mad”.  Popcorn and refreshments available.  Everyone welcome.  Free event.  Donations for Christian Aid.[/vc_column_text][/vc_column][/vc_row]
URL:https://greatmissendenbaptistchurch.com/event/film-night-10/
LOCATION:Church
END:VEVENT
BEGIN:VEVENT
DTSTART;TZID=UTC:20260417T140000
DTEND;TZID=UTC:20260417T160000
DTSTAMP:20260421T174945
CREATED:20260330T105856Z
LAST-MODIFIED:20260330T105856Z
UID:1744-1776434400-1776441600@greatmissendenbaptistchurch.com
SUMMARY:Tea and Games
DESCRIPTION:[vc_row type=”in_container” full_screen_row_position=”middle” column_margin=”default” column_direction=”default” column_direction_tablet=”default” column_direction_phone=”default” scene_position=”center” text_color=”dark” text_align=”left” row_border_radius=”none” row_border_radius_applies=”bg” row_position_desktop=”default” row_position_tablet=”inherit” row_position_phone=”inherit” overflow=”visible” overlay_strength=”0.3″ gradient_direction=”left_to_right” shape_divider_position=”bottom” bg_image_animation=”none”][vc_column column_padding=”no-extra-padding” column_padding_tablet=”inherit” column_padding_phone=”inherit” column_padding_position=”all” flex_gap_desktop=”10px” column_element_direction_desktop=”default” column_element_spacing=”default” desktop_text_alignment=”default” tablet_text_alignment=”default” phone_text_alignment=”default” background_color_opacity=”1″ background_hover_color_opacity=”1″ column_backdrop_filter=”none” column_shadow=”none” column_border_radius=”none” column_link_target=”_self” column_position=”default” gradient_direction=”left_to_right” overlay_strength=”0.3″ width=”1/1″ tablet_width_inherit=”default” animation_type=”default” bg_image_animation=”none” border_type=”simple” column_border_width=”none” column_border_style=”solid”][vc_column_text css=”” text_direction=”default”]Come and join us to play a selection of board or card games\, or simply a chat with friendly people.  Refreshments are served at 3.00pm.  Free event\, everyone welcome.[/vc_column_text][/vc_column][/vc_row]
URL:https://greatmissendenbaptistchurch.com/event/tea-and-games-61/
END:VEVENT
BEGIN:VEVENT
DTSTART;TZID=UTC:20260409T193000
DTEND;TZID=UTC:20260409T203000
DTSTAMP:20260421T174945
CREATED:20260330T104859Z
LAST-MODIFIED:20260330T104859Z
UID:1738-1775763000-1775766600@greatmissendenbaptistchurch.com
SUMMARY:Worship Evening
DESCRIPTION:[vc_row type=”in_container” full_screen_row_position=”middle” column_margin=”default” column_direction=”default” column_direction_tablet=”default” column_direction_phone=”default” scene_position=”center” text_color=”dark” text_align=”left” row_border_radius=”none” row_border_radius_applies=”bg” row_position_desktop=”default” row_position_tablet=”inherit” row_position_phone=”inherit” overflow=”visible” overlay_strength=”0.3″ gradient_direction=”left_to_right” shape_divider_position=”bottom” bg_image_animation=”none”][vc_column column_padding=”no-extra-padding” column_padding_tablet=”inherit” column_padding_phone=”inherit” column_padding_position=”all” flex_gap_desktop=”10px” column_element_direction_desktop=”default” column_element_spacing=”default” desktop_text_alignment=”default” tablet_text_alignment=”default” phone_text_alignment=”default” background_color_opacity=”1″ background_hover_color_opacity=”1″ column_backdrop_filter=”none” column_shadow=”none” column_border_radius=”none” column_link_target=”_self” column_position=”default” gradient_direction=”left_to_right” overlay_strength=”0.3″ width=”1/1″ tablet_width_inherit=”default” animation_type=”default” bg_image_animation=”none” border_type=”simple” column_border_width=”none” column_border_style=”solid”][vc_column_text css=”” text_direction=”default”]Come and join us for a time of worship.  An informal time of singing\, prayers and Scripture.[/vc_column_text][/vc_column][/vc_row]
URL:https://greatmissendenbaptistchurch.com/event/worship-evening-5/
END:VEVENT
BEGIN:VEVENT
DTSTART;TZID=UTC:20260403T120000
DTEND;TZID=UTC:20260403T133000
DTSTAMP:20260421T174945
CREATED:20260330T105712Z
LAST-MODIFIED:20260330T105712Z
UID:1742-1775217600-1775223000@greatmissendenbaptistchurch.com
SUMMARY:Live Streaming "The Passion" from Trafalgar Square
DESCRIPTION:[vc_row type=”in_container” full_screen_row_position=”middle” column_margin=”default” column_direction=”default” column_direction_tablet=”default” column_direction_phone=”default” scene_position=”center” text_color=”dark” text_align=”left” row_border_radius=”none” row_border_radius_applies=”bg” row_position_desktop=”default” row_position_tablet=”inherit” row_position_phone=”inherit” overflow=”visible” overlay_strength=”0.3″ gradient_direction=”left_to_right” shape_divider_position=”bottom” bg_image_animation=”none”][vc_column column_padding=”no-extra-padding” column_padding_tablet=”inherit” column_padding_phone=”inherit” column_padding_position=”all” flex_gap_desktop=”10px” column_element_direction_desktop=”default” column_element_spacing=”default” desktop_text_alignment=”default” tablet_text_alignment=”default” phone_text_alignment=”default” background_color_opacity=”1″ background_hover_color_opacity=”1″ column_backdrop_filter=”none” column_shadow=”none” column_border_radius=”none” column_link_target=”_self” column_position=”default” gradient_direction=”left_to_right” overlay_strength=”0.3″ width=”1/1″ tablet_width_inherit=”default” animation_type=”default” bg_image_animation=”none” border_type=”simple” column_border_width=”none” column_border_style=”solid”][vc_column_text css=”” text_direction=”default”]The Wintershall Trust perform a Passion Play at Trafalgar Square\, London\, which they live stream.  We will be showing the live stream at Great Missenden Baptist Church.  Everyone welcome to join us.  Light refreshments will be available.[/vc_column_text][/vc_column][/vc_row]
URL:https://greatmissendenbaptistchurch.com/event/live-streaming-the-passion-from-trafalgar-square/
END:VEVENT
BEGIN:VEVENT
DTSTART;TZID=UTC:20260403T090000
DTEND;TZID=UTC:20260403T113000
DTSTAMP:20260421T174945
CREATED:20260330T105308Z
LAST-MODIFIED:20260330T105308Z
UID:1740-1775206800-1775215800@greatmissendenbaptistchurch.com
SUMMARY:Good Friday Walk of Witness and combined service
DESCRIPTION:[vc_row type=”in_container” full_screen_row_position=”middle” column_margin=”default” column_direction=”default” column_direction_tablet=”default” column_direction_phone=”default” scene_position=”center” text_color=”dark” text_align=”left” row_border_radius=”none” row_border_radius_applies=”bg” row_position_desktop=”default” row_position_tablet=”inherit” row_position_phone=”inherit” overflow=”visible” overlay_strength=”0.3″ gradient_direction=”left_to_right” shape_divider_position=”bottom” bg_image_animation=”none”][vc_column column_padding=”no-extra-padding” column_padding_tablet=”inherit” column_padding_phone=”inherit” column_padding_position=”all” flex_gap_desktop=”10px” column_element_direction_desktop=”default” column_element_spacing=”default” desktop_text_alignment=”default” tablet_text_alignment=”default” phone_text_alignment=”default” background_color_opacity=”1″ background_hover_color_opacity=”1″ column_backdrop_filter=”none” column_shadow=”none” column_border_radius=”none” column_link_target=”_self” column_position=”default” gradient_direction=”left_to_right” overlay_strength=”0.3″ width=”1/1″ tablet_width_inherit=”default” animation_type=”default” bg_image_animation=”none” border_type=”simple” column_border_width=”none” column_border_style=”solid”][vc_column_text css=”” text_direction=”default”]The local churches will be joining together on Good Friday.  For those who would like to join the walk we will meet at St Peter and St Paul’s\, Great Missenden at 9.00am\, to begin walking at 9.15am.  We will pass by Great Missenden Baptist Church and Immaculate Heart of Mary\, then proceed up the hill towards Prestwood.  We will meet other churches at the Green Man at 10.00am and then continue to Prestwood Village Hall. \nA combined service will begin at 10.30am.  For those who do not wish to walk\, you are welcome to go directly to the Village Hall for the service.[/vc_column_text][/vc_column][/vc_row]
URL:https://greatmissendenbaptistchurch.com/event/good-friday-walk-of-witness-and-combined-service/
END:VEVENT
BEGIN:VEVENT
DTSTART;TZID=UTC:20260402T180000
DTEND;TZID=UTC:20260402T193000
DTSTAMP:20260421T174945
CREATED:20260220T125230Z
LAST-MODIFIED:20260220T125230Z
UID:1733-1775152800-1775158200@greatmissendenbaptistchurch.com
SUMMARY:Maundy Thursday Meal
DESCRIPTION:Join us for a meal to remember Maundy Thursday.  A time when friends met around a table and shared food and chatted. \nMaundy Thursday meal poster 2026
URL:https://greatmissendenbaptistchurch.com/event/maundy-thursday-meal-3/
LOCATION:Church Hall
END:VEVENT
BEGIN:VEVENT
DTSTART;TZID=UTC:20260329T150000
DTEND;TZID=UTC:20260329T170000
DTSTAMP:20260421T174945
CREATED:20260220T123746Z
LAST-MODIFIED:20260220T124529Z
UID:1726-1774796400-1774803600@greatmissendenbaptistchurch.com
SUMMARY:Palm Sunday service and craft
DESCRIPTION:Come and join us for Palm Sunday.  A short service followed by crafts and a buffet tea. \nPalm Sunday Service 2026 poster
URL:https://greatmissendenbaptistchurch.com/event/palm-sunday-service-and-craft/
LOCATION:Church
END:VEVENT
BEGIN:VEVENT
DTSTART;TZID=UTC:20260320T140000
DTEND;TZID=UTC:20260320T160000
DTSTAMP:20260421T174945
CREATED:20260220T123604Z
LAST-MODIFIED:20260220T123604Z
UID:1724-1774015200-1774022400@greatmissendenbaptistchurch.com
SUMMARY:Tea and Games
DESCRIPTION:Come and join us to play a selection of board and card games\, or simply to chat with friendly people.  Refreshments served at 3.00pm.
URL:https://greatmissendenbaptistchurch.com/event/tea-and-games-60/
LOCATION:Fellowship Room
END:VEVENT
BEGIN:VEVENT
DTSTART;TZID=UTC:20260306T140000
DTEND;TZID=UTC:20260306T160000
DTSTAMP:20260421T174945
CREATED:20260220T123359Z
LAST-MODIFIED:20260220T123359Z
UID:1722-1772805600-1772812800@greatmissendenbaptistchurch.com
SUMMARY:Tea and Games
DESCRIPTION:Come and join us to play a selection of board or card games\, or simply chat with friendly people.  Refreshments served at 3.00pm.
URL:https://greatmissendenbaptistchurch.com/event/tea-and-games-59/
LOCATION:Fellowship Room
END:VEVENT
BEGIN:VEVENT
DTSTART;TZID=UTC:20260305T193000
DTEND;TZID=UTC:20260305T203000
DTSTAMP:20260421T174945
CREATED:20260220T123217Z
LAST-MODIFIED:20260220T123217Z
UID:1720-1772739000-1772742600@greatmissendenbaptistchurch.com
SUMMARY:Worship Evening
DESCRIPTION:Come and join us for informal worship\, a time of music\, Scripture reading\, prayers and reflection.
URL:https://greatmissendenbaptistchurch.com/event/worship-evening-4/
LOCATION:Church
END:VEVENT
BEGIN:VEVENT
DTSTART;TZID=UTC:20260220T140000
DTEND;TZID=UTC:20260220T160000
DTSTAMP:20260421T174945
CREATED:20260202T145232Z
LAST-MODIFIED:20260202T145232Z
UID:1713-1771596000-1771603200@greatmissendenbaptistchurch.com
SUMMARY:Tea and Games
DESCRIPTION:Join us to play a selection of card and board games\, or simply to chat with friendly people.  Refreshments served at 3.00pm.  Free event\, donations appreciated.
URL:https://greatmissendenbaptistchurch.com/event/tea-and-games-58/
LOCATION:Fellowship Room
END:VEVENT
BEGIN:VEVENT
DTSTART;TZID=UTC:20260209T193000
DTEND;TZID=UTC:20260209T213000
DTSTAMP:20260421T174945
CREATED:20260202T145114Z
LAST-MODIFIED:20260202T145409Z
UID:1710-1770665400-1770672600@greatmissendenbaptistchurch.com
SUMMARY:Film Night
DESCRIPTION:We are showing a film in the church on Monday 9th February at 7.30pm.  We are unable to advertise the name of the film but the attached poster has a clue and some blurb.  Free event – donations appreciated. \nFilm poster 09 02 2026
URL:https://greatmissendenbaptistchurch.com/event/film-night-9/
LOCATION:Church
END:VEVENT
BEGIN:VEVENT
DTSTART;TZID=UTC:20260206T140000
DTEND;TZID=UTC:20260206T160000
DTSTAMP:20260421T174945
CREATED:20260202T144825Z
LAST-MODIFIED:20260202T144825Z
UID:1708-1770386400-1770393600@greatmissendenbaptistchurch.com
SUMMARY:Tea and Games
DESCRIPTION:Join us to play a selection of card and board games\, or simply to chat with friendly people.  Refreshments are served at 3.00pm. Free event – donations appreciated. \n 
URL:https://greatmissendenbaptistchurch.com/event/tea-and-games-57/
LOCATION:Fellowship Room
END:VEVENT
BEGIN:VEVENT
DTSTART;TZID=UTC:20260205T193000
DTEND;TZID=UTC:20260205T203000
DTSTAMP:20260421T174945
CREATED:20260202T144648Z
LAST-MODIFIED:20260202T144648Z
UID:1705-1770319800-1770323400@greatmissendenbaptistchurch.com
SUMMARY:Worship evening
DESCRIPTION:Come and join us for an informal time of worship\, with songs\, prayer and Scripture reading. \nWorship evening poster
URL:https://greatmissendenbaptistchurch.com/event/worship-evening-3/
LOCATION:Church
END:VEVENT
BEGIN:VEVENT
DTSTART;TZID=UTC:20260131T083000
DTEND;TZID=UTC:20260131T100000
DTSTAMP:20260421T174945
CREATED:20260107T125339Z
LAST-MODIFIED:20260107T125348Z
UID:1692-1769848200-1769853600@greatmissendenbaptistchurch.com
SUMMARY:Breakfast and Talk
DESCRIPTION:Join us for breakfast and a talk by Meriet Duncan teaching us about the importance of honeybees.  Cost is £5 – please see poster attached. \nGMBC breakfast poster 31 01 2026
URL:https://greatmissendenbaptistchurch.com/event/breakfast-and-talk-8/
LOCATION:Church Hall
END:VEVENT
BEGIN:VEVENT
DTSTART;TZID=UTC:20260123T140000
DTEND;TZID=UTC:20260123T160000
DTSTAMP:20260421T174945
CREATED:20260102T113301Z
LAST-MODIFIED:20260102T113301Z
UID:1689-1769176800-1769184000@greatmissendenbaptistchurch.com
SUMMARY:Tea and Games
DESCRIPTION:Come and join us to play a selection of board or card games\, or simply to chat with friendly people.  Refreshments served at 3.00pm.  Free event open to all.  Donations gratefully received.
URL:https://greatmissendenbaptistchurch.com/event/tea-and-games-56/
LOCATION:Fellowship Room
END:VEVENT
BEGIN:VEVENT
DTSTART;TZID=UTC:20260109T140000
DTEND;TZID=UTC:20260109T160000
DTSTAMP:20260421T174945
CREATED:20260102T113038Z
LAST-MODIFIED:20260102T113038Z
UID:1687-1767967200-1767974400@greatmissendenbaptistchurch.com
SUMMARY:Tea and Games
DESCRIPTION:Come along to play a selection of board or card games\, or simply to chat with friendly people.  Refreshments served at 3.00pm.  Free event open to all.  Donations gratefully received.
URL:https://greatmissendenbaptistchurch.com/event/tea-and-games-55/
LOCATION:Fellowship Room
END:VEVENT
BEGIN:VEVENT
DTSTART;TZID=UTC:20260108T193000
DTEND;TZID=UTC:20260108T203000
DTSTAMP:20260421T174945
CREATED:20260102T112904Z
LAST-MODIFIED:20260107T125032Z
UID:1685-1767900600-1767904200@greatmissendenbaptistchurch.com
SUMMARY:Worship Evening  CANCELLED DUE TO WEATHER FORECAST
DESCRIPTION:Come and join us in singing worship songs interspersed with prayer and Bible readings.  All welcome for an informal worship service.
URL:https://greatmissendenbaptistchurch.com/event/worship-evening-2/
LOCATION:Church
END:VEVENT
BEGIN:VEVENT
DTSTART;TZID=UTC:20260104T100000
DTEND;TZID=UTC:20260104T113000
DTSTAMP:20260421T174945
CREATED:20260102T112655Z
LAST-MODIFIED:20260102T112714Z
UID:1682-1767520800-1767526200@greatmissendenbaptistchurch.com
SUMMARY:Full immersion Baptism
DESCRIPTION:We will be celebrating a full immersion believer’s baptism.  All welcome.
URL:https://greatmissendenbaptistchurch.com/event/full-immersion-baptism/
LOCATION:Church
END:VEVENT
BEGIN:VEVENT
DTSTART;TZID=UTC:20251219T140000
DTEND;TZID=UTC:20251219T160000
DTSTAMP:20260421T174945
CREATED:20251112T095522Z
LAST-MODIFIED:20251112T095522Z
UID:1660-1766152800-1766160000@greatmissendenbaptistchurch.com
SUMMARY:Tea and Games
DESCRIPTION:Join us to play a selection of board or card games\, or simply to chat with friendly people. Refreshments served at 3.00pm. Free event open to all.
URL:https://greatmissendenbaptistchurch.com/event/tea-and-games-54/
LOCATION:Fellowship Room
END:VEVENT
BEGIN:VEVENT
DTSTART;TZID=UTC:20251211T193000
DTEND;TZID=UTC:20251211T210000
DTSTAMP:20260421T174945
CREATED:20251112T095759Z
LAST-MODIFIED:20251112T095759Z
UID:1662-1765481400-1765486800@greatmissendenbaptistchurch.com
SUMMARY:Worship evening
DESCRIPTION:The church will be open with music playing for a time of quiet reflection and worship in the midst of the busy Christmas season. Everyone welcome to come either for the whole time\, or for a part of the time that suits you.
URL:https://greatmissendenbaptistchurch.com/event/worship-evening/
LOCATION:Church
END:VEVENT
BEGIN:VEVENT
DTSTART;TZID=UTC:20251208T193000
DTEND;TZID=UTC:20251208T213000
DTSTAMP:20260421T174945
CREATED:20251112T095951Z
LAST-MODIFIED:20251112T095951Z
UID:1664-1765222200-1765229400@greatmissendenbaptistchurch.com
SUMMARY:Christmas Film Night
DESCRIPTION:We will be showing a Christmas film in the church. Free event with snacks available. \nFilm night – 08 12 2025
URL:https://greatmissendenbaptistchurch.com/event/christmas-film-night/
LOCATION:Church
END:VEVENT
BEGIN:VEVENT
DTSTART;TZID=UTC:20251207T150000
DTEND;TZID=UTC:20251207T170000
DTSTAMP:20260421T174945
CREATED:20251127T113947Z
LAST-MODIFIED:20251127T113947Z
UID:1667-1765119600-1765126800@greatmissendenbaptistchurch.com
SUMMARY:Puppet Show\, Crafts and Buffet Tea
DESCRIPTION:Join us for a Nativity puppet show\, followed by crafts and a buffet tea. Suitable for all ages. Free event – donations only. \nNativity puppet show Dec 2025
URL:https://greatmissendenbaptistchurch.com/event/puppet-show-crafts-and-buffet-tea/
LOCATION:Church
END:VEVENT
BEGIN:VEVENT
DTSTART;TZID=UTC:20251205T140000
DTEND;TZID=UTC:20251205T160000
DTSTAMP:20260421T174945
CREATED:20251112T095345Z
LAST-MODIFIED:20251112T095345Z
UID:1658-1764943200-1764950400@greatmissendenbaptistchurch.com
SUMMARY:Tea and Games
DESCRIPTION:Join us to play a selection of board or card games\, or simply chat with friendly people. Refreshments served at 3.00pm. Free event open to all.
URL:https://greatmissendenbaptistchurch.com/event/tea-and-games-53/
LOCATION:Fellowship Room
END:VEVENT
BEGIN:VEVENT
DTSTART;TZID=UTC:20251129T150000
DTEND;TZID=UTC:20251129T200000
DTSTAMP:20260421T174945
CREATED:20251127T114408Z
LAST-MODIFIED:20251127T114408Z
UID:1670-1764428400-1764446400@greatmissendenbaptistchurch.com
SUMMARY:Village Evening - Festive crafts
DESCRIPTION:During the Great Missenden village evening the Baptist Church will be open from 3.00pm (until crafts run out!). We will have on offer a variety of crafts\, suitable for all ages\, including making table decorations\, decorating baubles\, and colouring tree ornaments.  A selection of nativity sets will be on display\, as well as tea\, coffee and hot chocolate being served and films showing throughout the time. \nPlease do pop in and see what is going on.
URL:https://greatmissendenbaptistchurch.com/event/village-evening-festive-crafts/
LOCATION:Church
END:VEVENT
BEGIN:VEVENT
DTSTART;TZID=UTC:20251122T090000
DTEND;TZID=UTC:20251122T103000
DTSTAMP:20260421T174945
CREATED:20251112T095157Z
LAST-MODIFIED:20251112T095157Z
UID:1655-1763802000-1763807400@greatmissendenbaptistchurch.com
SUMMARY:Breakfast and Quiz
DESCRIPTION:Come along to our breakfast and quiz\, in aid of Tearfund charity. Cost is £5 to include either a cooked or continental breakfast. Booking is required. \nGMBC breakfast poster 22 11 2025
URL:https://greatmissendenbaptistchurch.com/event/breakfast-and-quiz/
LOCATION:Church
END:VEVENT
BEGIN:VEVENT
DTSTART;TZID=UTC:20251121T140000
DTEND;TZID=UTC:20251121T160000
DTSTAMP:20260421T174945
CREATED:20251028T093132Z
LAST-MODIFIED:20251028T093132Z
UID:1619-1763733600-1763740800@greatmissendenbaptistchurch.com
SUMMARY:Tea and Games
DESCRIPTION:Join us to play a variety of board or card games\, or simply to chat with friendly people. Refreshments served at 3.00pm. Free event\, donations only\, everyone welcome.
URL:https://greatmissendenbaptistchurch.com/event/tea-and-games-52/
LOCATION:Fellowship Room
END:VEVENT
BEGIN:VEVENT
DTSTART;TZID=UTC:20251110T193000
DTEND;TZID=UTC:20251110T213000
DTSTAMP:20260421T174945
CREATED:20251028T094046Z
LAST-MODIFIED:20251028T094046Z
UID:1623-1762803000-1762810200@greatmissendenbaptistchurch.com
SUMMARY:Film Night
DESCRIPTION:Come and enjoy some popcorn and soft drink while you watch a film. Free event\, donations welcome. Due to licensing rules we are unable to advertise the title of the film. But on the attached leaflet there is a clue and the blurb. \nFilm night – 10 11 2025 no title
URL:https://greatmissendenbaptistchurch.com/event/film-night-8/
LOCATION:Church
END:VEVENT
BEGIN:VEVENT
DTSTART;TZID=UTC:20251107T140000
DTEND;TZID=UTC:20251107T160000
DTSTAMP:20260421T174945
CREATED:20251010T081129Z
LAST-MODIFIED:20251010T081129Z
UID:1613-1762524000-1762531200@greatmissendenbaptistchurch.com
SUMMARY:Tea and Games
DESCRIPTION:Come and join us to play a selection of board or card games\, or simply to chat with friendly people. Refreshments served at 3.00pm. Free event.
URL:https://greatmissendenbaptistchurch.com/event/tea-and-games-51/
LOCATION:Fellowship Room
END:VEVENT
BEGIN:VEVENT
DTSTART;TZID=UTC:20251106T193000
DTEND;TZID=UTC:20251106T203000
DTSTAMP:20260421T174945
CREATED:20251028T093302Z
LAST-MODIFIED:20251028T093302Z
UID:1621-1762457400-1762461000@greatmissendenbaptistchurch.com
SUMMARY:Gathered worship evening
DESCRIPTION:Join us for a selection of hymns and songs\, bible readings and prayers. Very informal\, a time for reflection. Everyone welcome.
URL:https://greatmissendenbaptistchurch.com/event/gathered-worship-evening/
LOCATION:Church
END:VEVENT
END:VCALENDAR