BEGIN:VCALENDAR
VERSION:2.0
PRODID:-//Great Missenden Baptist Church - ECPv6.15.20//NONSGML v1.0//EN
CALSCALE:GREGORIAN
METHOD:PUBLISH
X-WR-CALNAME:Great Missenden Baptist Church
X-ORIGINAL-URL:https://greatmissendenbaptistchurch.com
X-WR-CALDESC:Events for Great Missenden Baptist Church
REFRESH-INTERVAL;VALUE=DURATION:PT1H
X-Robots-Tag:noindex
X-PUBLISHED-TTL:PT1H
BEGIN:VTIMEZONE
TZID:UTC
BEGIN:STANDARD
TZOFFSETFROM:+0000
TZOFFSETTO:+0000
TZNAME:UTC
DTSTART:20250101T000000
END:STANDARD
END:VTIMEZONE
BEGIN:VEVENT
DTSTART;TZID=UTC:20260209T193000
DTEND;TZID=UTC:20260209T213000
DTSTAMP:20260421T194503
CREATED:20260202T145114Z
LAST-MODIFIED:20260202T145409Z
UID:1710-1770665400-1770672600@greatmissendenbaptistchurch.com
SUMMARY:Film Night
DESCRIPTION:We are showing a film in the church on Monday 9th February at 7.30pm.  We are unable to advertise the name of the film but the attached poster has a clue and some blurb.  Free event – donations appreciated. \nFilm poster 09 02 2026
URL:https://greatmissendenbaptistchurch.com/event/film-night-9/
LOCATION:Church
END:VEVENT
BEGIN:VEVENT
DTSTART;TZID=UTC:20260220T140000
DTEND;TZID=UTC:20260220T160000
DTSTAMP:20260421T194503
CREATED:20260202T145232Z
LAST-MODIFIED:20260202T145232Z
UID:1713-1771596000-1771603200@greatmissendenbaptistchurch.com
SUMMARY:Tea and Games
DESCRIPTION:Join us to play a selection of card and board games\, or simply to chat with friendly people.  Refreshments served at 3.00pm.  Free event\, donations appreciated.
URL:https://greatmissendenbaptistchurch.com/event/tea-and-games-58/
LOCATION:Fellowship Room
END:VEVENT
BEGIN:VEVENT
DTSTART;TZID=UTC:20260305T193000
DTEND;TZID=UTC:20260305T203000
DTSTAMP:20260421T194503
CREATED:20260220T123217Z
LAST-MODIFIED:20260220T123217Z
UID:1720-1772739000-1772742600@greatmissendenbaptistchurch.com
SUMMARY:Worship Evening
DESCRIPTION:Come and join us for informal worship\, a time of music\, Scripture reading\, prayers and reflection.
URL:https://greatmissendenbaptistchurch.com/event/worship-evening-4/
LOCATION:Church
END:VEVENT
BEGIN:VEVENT
DTSTART;TZID=UTC:20260306T140000
DTEND;TZID=UTC:20260306T160000
DTSTAMP:20260421T194503
CREATED:20260220T123359Z
LAST-MODIFIED:20260220T123359Z
UID:1722-1772805600-1772812800@greatmissendenbaptistchurch.com
SUMMARY:Tea and Games
DESCRIPTION:Come and join us to play a selection of board or card games\, or simply chat with friendly people.  Refreshments served at 3.00pm.
URL:https://greatmissendenbaptistchurch.com/event/tea-and-games-59/
LOCATION:Fellowship Room
END:VEVENT
BEGIN:VEVENT
DTSTART;TZID=UTC:20260320T140000
DTEND;TZID=UTC:20260320T160000
DTSTAMP:20260421T194503
CREATED:20260220T123604Z
LAST-MODIFIED:20260220T123604Z
UID:1724-1774015200-1774022400@greatmissendenbaptistchurch.com
SUMMARY:Tea and Games
DESCRIPTION:Come and join us to play a selection of board and card games\, or simply to chat with friendly people.  Refreshments served at 3.00pm.
URL:https://greatmissendenbaptistchurch.com/event/tea-and-games-60/
LOCATION:Fellowship Room
END:VEVENT
BEGIN:VEVENT
DTSTART;TZID=UTC:20260329T150000
DTEND;TZID=UTC:20260329T170000
DTSTAMP:20260421T194503
CREATED:20260220T123746Z
LAST-MODIFIED:20260220T124529Z
UID:1726-1774796400-1774803600@greatmissendenbaptistchurch.com
SUMMARY:Palm Sunday service and craft
DESCRIPTION:Come and join us for Palm Sunday.  A short service followed by crafts and a buffet tea. \nPalm Sunday Service 2026 poster
URL:https://greatmissendenbaptistchurch.com/event/palm-sunday-service-and-craft/
LOCATION:Church
END:VEVENT
BEGIN:VEVENT
DTSTART;TZID=UTC:20260402T180000
DTEND;TZID=UTC:20260402T193000
DTSTAMP:20260421T194503
CREATED:20260220T125230Z
LAST-MODIFIED:20260220T125230Z
UID:1733-1775152800-1775158200@greatmissendenbaptistchurch.com
SUMMARY:Maundy Thursday Meal
DESCRIPTION:Join us for a meal to remember Maundy Thursday.  A time when friends met around a table and shared food and chatted. \nMaundy Thursday meal poster 2026
URL:https://greatmissendenbaptistchurch.com/event/maundy-thursday-meal-3/
LOCATION:Church Hall
END:VEVENT
BEGIN:VEVENT
DTSTART;TZID=UTC:20260403T090000
DTEND;TZID=UTC:20260403T113000
DTSTAMP:20260421T194503
CREATED:20260330T105308Z
LAST-MODIFIED:20260330T105308Z
UID:1740-1775206800-1775215800@greatmissendenbaptistchurch.com
SUMMARY:Good Friday Walk of Witness and combined service
DESCRIPTION:[vc_row type=”in_container” full_screen_row_position=”middle” column_margin=”default” column_direction=”default” column_direction_tablet=”default” column_direction_phone=”default” scene_position=”center” text_color=”dark” text_align=”left” row_border_radius=”none” row_border_radius_applies=”bg” row_position_desktop=”default” row_position_tablet=”inherit” row_position_phone=”inherit” overflow=”visible” overlay_strength=”0.3″ gradient_direction=”left_to_right” shape_divider_position=”bottom” bg_image_animation=”none”][vc_column column_padding=”no-extra-padding” column_padding_tablet=”inherit” column_padding_phone=”inherit” column_padding_position=”all” flex_gap_desktop=”10px” column_element_direction_desktop=”default” column_element_spacing=”default” desktop_text_alignment=”default” tablet_text_alignment=”default” phone_text_alignment=”default” background_color_opacity=”1″ background_hover_color_opacity=”1″ column_backdrop_filter=”none” column_shadow=”none” column_border_radius=”none” column_link_target=”_self” column_position=”default” gradient_direction=”left_to_right” overlay_strength=”0.3″ width=”1/1″ tablet_width_inherit=”default” animation_type=”default” bg_image_animation=”none” border_type=”simple” column_border_width=”none” column_border_style=”solid”][vc_column_text css=”” text_direction=”default”]The local churches will be joining together on Good Friday.  For those who would like to join the walk we will meet at St Peter and St Paul’s\, Great Missenden at 9.00am\, to begin walking at 9.15am.  We will pass by Great Missenden Baptist Church and Immaculate Heart of Mary\, then proceed up the hill towards Prestwood.  We will meet other churches at the Green Man at 10.00am and then continue to Prestwood Village Hall. \nA combined service will begin at 10.30am.  For those who do not wish to walk\, you are welcome to go directly to the Village Hall for the service.[/vc_column_text][/vc_column][/vc_row]
URL:https://greatmissendenbaptistchurch.com/event/good-friday-walk-of-witness-and-combined-service/
END:VEVENT
BEGIN:VEVENT
DTSTART;TZID=UTC:20260403T120000
DTEND;TZID=UTC:20260403T133000
DTSTAMP:20260421T194503
CREATED:20260330T105712Z
LAST-MODIFIED:20260330T105712Z
UID:1742-1775217600-1775223000@greatmissendenbaptistchurch.com
SUMMARY:Live Streaming "The Passion" from Trafalgar Square
DESCRIPTION:[vc_row type=”in_container” full_screen_row_position=”middle” column_margin=”default” column_direction=”default” column_direction_tablet=”default” column_direction_phone=”default” scene_position=”center” text_color=”dark” text_align=”left” row_border_radius=”none” row_border_radius_applies=”bg” row_position_desktop=”default” row_position_tablet=”inherit” row_position_phone=”inherit” overflow=”visible” overlay_strength=”0.3″ gradient_direction=”left_to_right” shape_divider_position=”bottom” bg_image_animation=”none”][vc_column column_padding=”no-extra-padding” column_padding_tablet=”inherit” column_padding_phone=”inherit” column_padding_position=”all” flex_gap_desktop=”10px” column_element_direction_desktop=”default” column_element_spacing=”default” desktop_text_alignment=”default” tablet_text_alignment=”default” phone_text_alignment=”default” background_color_opacity=”1″ background_hover_color_opacity=”1″ column_backdrop_filter=”none” column_shadow=”none” column_border_radius=”none” column_link_target=”_self” column_position=”default” gradient_direction=”left_to_right” overlay_strength=”0.3″ width=”1/1″ tablet_width_inherit=”default” animation_type=”default” bg_image_animation=”none” border_type=”simple” column_border_width=”none” column_border_style=”solid”][vc_column_text css=”” text_direction=”default”]The Wintershall Trust perform a Passion Play at Trafalgar Square\, London\, which they live stream.  We will be showing the live stream at Great Missenden Baptist Church.  Everyone welcome to join us.  Light refreshments will be available.[/vc_column_text][/vc_column][/vc_row]
URL:https://greatmissendenbaptistchurch.com/event/live-streaming-the-passion-from-trafalgar-square/
END:VEVENT
BEGIN:VEVENT
DTSTART;TZID=UTC:20260409T193000
DTEND;TZID=UTC:20260409T203000
DTSTAMP:20260421T194503
CREATED:20260330T104859Z
LAST-MODIFIED:20260330T104859Z
UID:1738-1775763000-1775766600@greatmissendenbaptistchurch.com
SUMMARY:Worship Evening
DESCRIPTION:[vc_row type=”in_container” full_screen_row_position=”middle” column_margin=”default” column_direction=”default” column_direction_tablet=”default” column_direction_phone=”default” scene_position=”center” text_color=”dark” text_align=”left” row_border_radius=”none” row_border_radius_applies=”bg” row_position_desktop=”default” row_position_tablet=”inherit” row_position_phone=”inherit” overflow=”visible” overlay_strength=”0.3″ gradient_direction=”left_to_right” shape_divider_position=”bottom” bg_image_animation=”none”][vc_column column_padding=”no-extra-padding” column_padding_tablet=”inherit” column_padding_phone=”inherit” column_padding_position=”all” flex_gap_desktop=”10px” column_element_direction_desktop=”default” column_element_spacing=”default” desktop_text_alignment=”default” tablet_text_alignment=”default” phone_text_alignment=”default” background_color_opacity=”1″ background_hover_color_opacity=”1″ column_backdrop_filter=”none” column_shadow=”none” column_border_radius=”none” column_link_target=”_self” column_position=”default” gradient_direction=”left_to_right” overlay_strength=”0.3″ width=”1/1″ tablet_width_inherit=”default” animation_type=”default” bg_image_animation=”none” border_type=”simple” column_border_width=”none” column_border_style=”solid”][vc_column_text css=”” text_direction=”default”]Come and join us for a time of worship.  An informal time of singing\, prayers and Scripture.[/vc_column_text][/vc_column][/vc_row]
URL:https://greatmissendenbaptistchurch.com/event/worship-evening-5/
END:VEVENT
BEGIN:VEVENT
DTSTART;TZID=UTC:20260417T140000
DTEND;TZID=UTC:20260417T160000
DTSTAMP:20260421T194503
CREATED:20260330T105856Z
LAST-MODIFIED:20260330T105856Z
UID:1744-1776434400-1776441600@greatmissendenbaptistchurch.com
SUMMARY:Tea and Games
DESCRIPTION:[vc_row type=”in_container” full_screen_row_position=”middle” column_margin=”default” column_direction=”default” column_direction_tablet=”default” column_direction_phone=”default” scene_position=”center” text_color=”dark” text_align=”left” row_border_radius=”none” row_border_radius_applies=”bg” row_position_desktop=”default” row_position_tablet=”inherit” row_position_phone=”inherit” overflow=”visible” overlay_strength=”0.3″ gradient_direction=”left_to_right” shape_divider_position=”bottom” bg_image_animation=”none”][vc_column column_padding=”no-extra-padding” column_padding_tablet=”inherit” column_padding_phone=”inherit” column_padding_position=”all” flex_gap_desktop=”10px” column_element_direction_desktop=”default” column_element_spacing=”default” desktop_text_alignment=”default” tablet_text_alignment=”default” phone_text_alignment=”default” background_color_opacity=”1″ background_hover_color_opacity=”1″ column_backdrop_filter=”none” column_shadow=”none” column_border_radius=”none” column_link_target=”_self” column_position=”default” gradient_direction=”left_to_right” overlay_strength=”0.3″ width=”1/1″ tablet_width_inherit=”default” animation_type=”default” bg_image_animation=”none” border_type=”simple” column_border_width=”none” column_border_style=”solid”][vc_column_text css=”” text_direction=”default”]Come and join us to play a selection of board or card games\, or simply a chat with friendly people.  Refreshments are served at 3.00pm.  Free event\, everyone welcome.[/vc_column_text][/vc_column][/vc_row]
URL:https://greatmissendenbaptistchurch.com/event/tea-and-games-61/
END:VEVENT
BEGIN:VEVENT
DTSTART;TZID=UTC:20260420T193000
DTEND;TZID=UTC:20260420T213000
DTSTAMP:20260421T194503
CREATED:20260420T082110Z
LAST-MODIFIED:20260420T082110Z
UID:1763-1776713400-1776720600@greatmissendenbaptistchurch.com
SUMMARY:Film Night
DESCRIPTION:[vc_row type=”in_container” full_screen_row_position=”middle” column_margin=”default” column_direction=”default” column_direction_tablet=”default” column_direction_phone=”default” scene_position=”center” text_color=”dark” text_align=”left” row_border_radius=”none” row_border_radius_applies=”bg” row_position_desktop=”default” row_position_tablet=”inherit” row_position_phone=”inherit” overflow=”visible” overlay_strength=”0.3″ gradient_direction=”left_to_right” shape_divider_position=”bottom” bg_image_animation=”none”][vc_column column_padding=”no-extra-padding” column_padding_tablet=”inherit” column_padding_phone=”inherit” column_padding_position=”all” flex_gap_desktop=”10px” column_element_direction_desktop=”default” column_element_spacing=”default” desktop_text_alignment=”default” tablet_text_alignment=”default” phone_text_alignment=”default” background_color_opacity=”1″ background_hover_color_opacity=”1″ column_backdrop_filter=”none” column_shadow=”none” column_border_radius=”none” column_link_target=”_self” column_position=”default” gradient_direction=”left_to_right” overlay_strength=”0.3″ width=”1/1″ tablet_width_inherit=”default” animation_type=”default” bg_image_animation=”none” border_type=”simple” column_border_width=”none” column_border_style=”solid”][vc_column_text css=”” text_direction=”default”]We are showing a film in Great Missenden Baptist Church at 7.30pm.  We cannot advertise the title of the film but a clue is “Deities must be mad”.  Popcorn and refreshments available.  Everyone welcome.  Free event.  Donations for Christian Aid.[/vc_column_text][/vc_column][/vc_row]
URL:https://greatmissendenbaptistchurch.com/event/film-night-10/
LOCATION:Church
END:VEVENT
BEGIN:VEVENT
DTSTART;TZID=UTC:20260501T140000
DTEND;TZID=UTC:20260501T160000
DTSTAMP:20260421T194503
CREATED:20260420T083315Z
LAST-MODIFIED:20260420T083315Z
UID:1775-1777644000-1777651200@greatmissendenbaptistchurch.com
SUMMARY:Tea and Games
DESCRIPTION:[vc_row type=”in_container” full_screen_row_position=”middle” column_margin=”default” column_direction=”default” column_direction_tablet=”default” column_direction_phone=”default” scene_position=”center” text_color=”dark” text_align=”left” row_border_radius=”none” row_border_radius_applies=”bg” row_position_desktop=”default” row_position_tablet=”inherit” row_position_phone=”inherit” overflow=”visible” overlay_strength=”0.3″ gradient_direction=”left_to_right” shape_divider_position=”bottom” bg_image_animation=”none”][vc_column column_padding=”no-extra-padding” column_padding_tablet=”inherit” column_padding_phone=”inherit” column_padding_position=”all” flex_gap_desktop=”10px” column_element_direction_desktop=”default” column_element_spacing=”default” desktop_text_alignment=”default” tablet_text_alignment=”default” phone_text_alignment=”default” background_color_opacity=”1″ background_hover_color_opacity=”1″ column_backdrop_filter=”none” column_shadow=”none” column_border_radius=”none” column_link_target=”_self” column_position=”default” gradient_direction=”left_to_right” overlay_strength=”0.3″ width=”1/1″ tablet_width_inherit=”default” animation_type=”default” bg_image_animation=”none” border_type=”simple” column_border_width=”none” column_border_style=”solid”][vc_column_text css=”” text_direction=”default”]Join us to play a variety of board or card games\, or simply to chat with friendly people.  Refreshments served at 3.00pm.  Free event\, donation only\, everyone welcome.[/vc_column_text][/vc_column][/vc_row]
URL:https://greatmissendenbaptistchurch.com/event/tea-and-games-62/
LOCATION:Fellowship Room
END:VEVENT
BEGIN:VEVENT
DTSTART;TZID=UTC:20260507T193000
DTEND;TZID=UTC:20260507T203000
DTSTAMP:20260421T194503
CREATED:20260420T084011Z
LAST-MODIFIED:20260420T084011Z
UID:1784-1778182200-1778185800@greatmissendenbaptistchurch.com
SUMMARY:Worship Evening
DESCRIPTION:[vc_row type=”in_container” full_screen_row_position=”middle” column_margin=”default” column_direction=”default” column_direction_tablet=”default” column_direction_phone=”default” scene_position=”center” text_color=”dark” text_align=”left” row_border_radius=”none” row_border_radius_applies=”bg” row_position_desktop=”default” row_position_tablet=”inherit” row_position_phone=”inherit” overflow=”visible” overlay_strength=”0.3″ gradient_direction=”left_to_right” shape_divider_position=”bottom” bg_image_animation=”none”][vc_column column_padding=”no-extra-padding” column_padding_tablet=”inherit” column_padding_phone=”inherit” column_padding_position=”all” flex_gap_desktop=”10px” column_element_direction_desktop=”default” column_element_spacing=”default” desktop_text_alignment=”default” tablet_text_alignment=”default” phone_text_alignment=”default” background_color_opacity=”1″ background_hover_color_opacity=”1″ column_backdrop_filter=”none” column_shadow=”none” column_border_radius=”none” column_link_target=”_self” column_position=”default” gradient_direction=”left_to_right” overlay_strength=”0.3″ width=”1/1″ tablet_width_inherit=”default” animation_type=”default” bg_image_animation=”none” border_type=”simple” column_border_width=”none” column_border_style=”solid”][vc_column_text css=”” text_direction=”default”]Please do join us for a time of informal worship.  Music\, Scripture\, Prayer.  Everyone welcome.[/vc_column_text][/vc_column][/vc_row]
URL:https://greatmissendenbaptistchurch.com/event/worship-evening-7/
LOCATION:Church
END:VEVENT
BEGIN:VEVENT
DTSTART;TZID=UTC:20260515T140000
DTEND;TZID=UTC:20260515T160000
DTSTAMP:20260421T194503
CREATED:20260420T083425Z
LAST-MODIFIED:20260420T083425Z
UID:1777-1778853600-1778860800@greatmissendenbaptistchurch.com
SUMMARY:Tea and Games
DESCRIPTION:[vc_row type=”in_container” full_screen_row_position=”middle” column_margin=”default” column_direction=”default” column_direction_tablet=”default” column_direction_phone=”default” scene_position=”center” text_color=”dark” text_align=”left” row_border_radius=”none” row_border_radius_applies=”bg” row_position_desktop=”default” row_position_tablet=”inherit” row_position_phone=”inherit” overflow=”visible” overlay_strength=”0.3″ gradient_direction=”left_to_right” shape_divider_position=”bottom” bg_image_animation=”none”][vc_column column_padding=”no-extra-padding” column_padding_tablet=”inherit” column_padding_phone=”inherit” column_padding_position=”all” flex_gap_desktop=”10px” column_element_direction_desktop=”default” column_element_spacing=”default” desktop_text_alignment=”default” tablet_text_alignment=”default” phone_text_alignment=”default” background_color_opacity=”1″ background_hover_color_opacity=”1″ column_backdrop_filter=”none” column_shadow=”none” column_border_radius=”none” column_link_target=”_self” column_position=”default” gradient_direction=”left_to_right” overlay_strength=”0.3″ width=”1/1″ tablet_width_inherit=”default” animation_type=”default” bg_image_animation=”none” border_type=”simple” column_border_width=”none” column_border_style=”solid”][vc_column_text css=”” text_direction=”default”]Join us to play a variety of board or card games\, or simply to chat with friendly people.  Refreshments served at 3.00pm.  Free event\, donation only\, everyone welcome.[/vc_column_text][/vc_column][/vc_row]
URL:https://greatmissendenbaptistchurch.com/event/tea-and-games-63/
LOCATION:Fellowship Room
END:VEVENT
BEGIN:VEVENT
DTSTART;TZID=UTC:20260604T193000
DTEND;TZID=UTC:20260604T203000
DTSTAMP:20260421T194503
CREATED:20260420T082845Z
LAST-MODIFIED:20260420T082845Z
UID:1771-1780601400-1780605000@greatmissendenbaptistchurch.com
SUMMARY:Worship evening
DESCRIPTION:[vc_row type=”in_container” full_screen_row_position=”middle” column_margin=”default” column_direction=”default” column_direction_tablet=”default” column_direction_phone=”default” scene_position=”center” text_color=”dark” text_align=”left” row_border_radius=”none” row_border_radius_applies=”bg” row_position_desktop=”default” row_position_tablet=”inherit” row_position_phone=”inherit” overflow=”visible” overlay_strength=”0.3″ gradient_direction=”left_to_right” shape_divider_position=”bottom” bg_image_animation=”none”][vc_column column_padding=”no-extra-padding” column_padding_tablet=”inherit” column_padding_phone=”inherit” column_padding_position=”all” flex_gap_desktop=”10px” column_element_direction_desktop=”default” column_element_spacing=”default” desktop_text_alignment=”default” tablet_text_alignment=”default” phone_text_alignment=”default” background_color_opacity=”1″ background_hover_color_opacity=”1″ column_backdrop_filter=”none” column_shadow=”none” column_border_radius=”none” column_link_target=”_self” column_position=”default” gradient_direction=”left_to_right” overlay_strength=”0.3″ width=”1/1″ tablet_width_inherit=”default” animation_type=”default” bg_image_animation=”none” border_type=”simple” column_border_width=”none” column_border_style=”solid”][vc_column_text css=”” text_direction=”default”]Please join us for an informal worship service.  Music\, Scripture and Prayer.  Everyone welcome.[/vc_column_text][/vc_column][/vc_row]
URL:https://greatmissendenbaptistchurch.com/event/worship-evening-6/
LOCATION:Church
END:VEVENT
BEGIN:VEVENT
DTSTART;TZID=UTC:20260605T140000
DTEND;TZID=UTC:20260605T160000
DTSTAMP:20260421T194503
CREATED:20260420T083822Z
LAST-MODIFIED:20260420T083822Z
UID:1782-1780668000-1780675200@greatmissendenbaptistchurch.com
SUMMARY:Tea and Games
DESCRIPTION:[vc_row type=”in_container” full_screen_row_position=”middle” column_margin=”default” column_direction=”default” column_direction_tablet=”default” column_direction_phone=”default” scene_position=”center” text_color=”dark” text_align=”left” row_border_radius=”none” row_border_radius_applies=”bg” row_position_desktop=”default” row_position_tablet=”inherit” row_position_phone=”inherit” overflow=”visible” overlay_strength=”0.3″ gradient_direction=”left_to_right” shape_divider_position=”bottom” bg_image_animation=”none”][vc_column column_padding=”no-extra-padding” column_padding_tablet=”inherit” column_padding_phone=”inherit” column_padding_position=”all” flex_gap_desktop=”10px” column_element_direction_desktop=”default” column_element_spacing=”default” desktop_text_alignment=”default” tablet_text_alignment=”default” phone_text_alignment=”default” background_color_opacity=”1″ background_hover_color_opacity=”1″ column_backdrop_filter=”none” column_shadow=”none” column_border_radius=”none” column_link_target=”_self” column_position=”default” gradient_direction=”left_to_right” overlay_strength=”0.3″ width=”1/1″ tablet_width_inherit=”default” animation_type=”default” bg_image_animation=”none” border_type=”simple” column_border_width=”none” column_border_style=”solid”][vc_column_text css=”” text_direction=”default”]Join us to play a variety of board or card games\, or simply to chat with friendly people.  Refreshments served at 3.00pm.  Free event\, donation only\, everyone welcome.[/vc_column_text][/vc_column][/vc_row]
URL:https://greatmissendenbaptistchurch.com/event/tea-and-games-64/
LOCATION:Fellowship Room
END:VEVENT
BEGIN:VEVENT
DTSTART;TZID=UTC:20260619T140000
DTEND;TZID=UTC:20260619T160000
DTSTAMP:20260421T194503
CREATED:20260420T084236Z
LAST-MODIFIED:20260420T084236Z
UID:1786-1781877600-1781884800@greatmissendenbaptistchurch.com
SUMMARY:Tea and Games
DESCRIPTION:[vc_row type=”in_container” full_screen_row_position=”middle” column_margin=”default” column_direction=”default” column_direction_tablet=”default” column_direction_phone=”default” scene_position=”center” text_color=”dark” text_align=”left” row_border_radius=”none” row_border_radius_applies=”bg” row_position_desktop=”default” row_position_tablet=”inherit” row_position_phone=”inherit” overflow=”visible” overlay_strength=”0.3″ gradient_direction=”left_to_right” shape_divider_position=”bottom” bg_image_animation=”none”][vc_column column_padding=”no-extra-padding” column_padding_tablet=”inherit” column_padding_phone=”inherit” column_padding_position=”all” flex_gap_desktop=”10px” column_element_direction_desktop=”default” column_element_spacing=”default” desktop_text_alignment=”default” tablet_text_alignment=”default” phone_text_alignment=”default” background_color_opacity=”1″ background_hover_color_opacity=”1″ column_backdrop_filter=”none” column_shadow=”none” column_border_radius=”none” column_link_target=”_self” column_position=”default” gradient_direction=”left_to_right” overlay_strength=”0.3″ width=”1/1″ tablet_width_inherit=”default” animation_type=”default” bg_image_animation=”none” border_type=”simple” column_border_width=”none” column_border_style=”solid”][vc_column_text css=”” text_direction=”default”]Join us to play a selection of board or card games\, or simply to chat with friendly people.  Refreshments served at 3.00pm.  Free event\, donation only\, everyone welcome.[/vc_column_text][/vc_column][/vc_row]
URL:https://greatmissendenbaptistchurch.com/event/tea-and-games-65/
LOCATION:Fellowship Room
END:VEVENT
END:VCALENDAR