BEGIN:VCALENDAR
VERSION:2.0
PRODID:-//Great Missenden Baptist Church - ECPv6.15.20//NONSGML v1.0//EN
CALSCALE:GREGORIAN
METHOD:PUBLISH
X-WR-CALNAME:Great Missenden Baptist Church
X-ORIGINAL-URL:https://greatmissendenbaptistchurch.com
X-WR-CALDESC:Events for Great Missenden Baptist Church
REFRESH-INTERVAL;VALUE=DURATION:PT1H
X-Robots-Tag:noindex
X-PUBLISHED-TTL:PT1H
BEGIN:VTIMEZONE
TZID:UTC
BEGIN:STANDARD
TZOFFSETFROM:+0000
TZOFFSETTO:+0000
TZNAME:UTC
DTSTART:20210101T000000
END:STANDARD
END:VTIMEZONE
BEGIN:VEVENT
DTSTART;TZID=UTC:20230421T140000
DTEND;TZID=UTC:20230421T160000
DTSTAMP:20260422T223437
CREATED:20230308T093640Z
LAST-MODIFIED:20230308T093640Z
UID:1156-1682085600-1682092800@greatmissendenbaptistchurch.com
SUMMARY:Tea and Games
DESCRIPTION:Join us to play board games or card games\, or simply come and watch and chat.  Open to all ages. Sandwiches\, cake\, tea and coffee served.
URL:https://greatmissendenbaptistchurch.com/event/tea-and-games-18/
LOCATION:Fellowship Room
END:VEVENT
BEGIN:VEVENT
DTSTART;TZID=UTC:20230416T150000
DTEND;TZID=UTC:20230416T170000
DTSTAMP:20260422T223437
CREATED:20230308T093519Z
LAST-MODIFIED:20230308T093519Z
UID:1154-1681657200-1681664400@greatmissendenbaptistchurch.com
SUMMARY:Family Fun
DESCRIPTION:Time for assortment of crafts\, short story and a meal.  Open to all families – parents\, carers\, grandparents.
URL:https://greatmissendenbaptistchurch.com/event/family-fun-13/
LOCATION:Church Hall
END:VEVENT
BEGIN:VEVENT
DTSTART;TZID=UTC:20230407T140000
DTEND;TZID=UTC:20230407T160000
DTSTAMP:20260422T223437
CREATED:20230308T093030Z
LAST-MODIFIED:20230308T093030Z
UID:1150-1680876000-1680883200@greatmissendenbaptistchurch.com
SUMMARY:Tea and Games
DESCRIPTION:Join us to play board and card games\, or just to watch and chat to others. Open to all ages.  Sandwiches\, cake\, tea and coffee served.
URL:https://greatmissendenbaptistchurch.com/event/tea-and-games-17/
LOCATION:Fellowship Room
END:VEVENT
BEGIN:VEVENT
DTSTART;TZID=UTC:20230406T190000
DTEND;TZID=UTC:20230406T210000
DTSTAMP:20260422T223437
CREATED:20230308T093338Z
LAST-MODIFIED:20230308T093338Z
UID:1152-1680807600-1680814800@greatmissendenbaptistchurch.com
SUMMARY:Maundy Thursday Meal
DESCRIPTION:Join us for a meal on Maundy Thursday. All ages welcome.  Communion will be served during the meal\, with no obligation to partake.
URL:https://greatmissendenbaptistchurch.com/event/maundy-thursday-meal/
LOCATION:Church Hall
END:VEVENT
BEGIN:VEVENT
DTSTART;TZID=UTC:20230319T150000
DTEND;TZID=UTC:20230319T170000
DTSTAMP:20260422T223437
CREATED:20230210T130159Z
LAST-MODIFIED:20230210T130159Z
UID:1142-1679238000-1679245200@greatmissendenbaptistchurch.com
SUMMARY:Family Fun
DESCRIPTION:Crafts and short story followed by a meal.  All welcome.
URL:https://greatmissendenbaptistchurch.com/event/family-fun-5/
LOCATION:Church Hall
END:VEVENT
BEGIN:VEVENT
DTSTART;TZID=UTC:20230317T140000
DTEND;TZID=UTC:20230317T160000
DTSTAMP:20260422T223437
CREATED:20230308T092842Z
LAST-MODIFIED:20230308T092842Z
UID:1148-1679061600-1679068800@greatmissendenbaptistchurch.com
SUMMARY:Tea and Games
DESCRIPTION:
URL:https://greatmissendenbaptistchurch.com/event/tea-and-games-16/
LOCATION:Fellowship Room
END:VEVENT
BEGIN:VEVENT
DTSTART;TZID=UTC:20230313T193000
DTEND;TZID=UTC:20230313T213000
DTSTAMP:20260422T223437
CREATED:20230210T130107Z
LAST-MODIFIED:20230210T130107Z
UID:1140-1678735800-1678743000@greatmissendenbaptistchurch.com
SUMMARY:Film Night in aid of Christian Aid
DESCRIPTION:A film will be shown in the church with popcorn and soft drinks available.  No cost\, but all donations will be in aid of Christian Aid.
URL:https://greatmissendenbaptistchurch.com/event/film-night-in-aid-of-christian-aid-2/
LOCATION:Church
END:VEVENT
BEGIN:VEVENT
DTSTART;TZID=UTC:20230303T140000
DTEND;TZID=UTC:20230303T160000
DTSTAMP:20260422T223437
CREATED:20230210T125931Z
LAST-MODIFIED:20230210T125931Z
UID:1138-1677852000-1677859200@greatmissendenbaptistchurch.com
SUMMARY:Tea and Games
DESCRIPTION:
URL:https://greatmissendenbaptistchurch.com/event/tea-and-games-15/
LOCATION:Fellowship Room
END:VEVENT
BEGIN:VEVENT
DTSTART;TZID=UTC:20230303T103000
DTEND;TZID=UTC:20230303T113000
DTSTAMP:20260422T223437
CREATED:20230210T125846Z
LAST-MODIFIED:20230210T125846Z
UID:1136-1677839400-1677843000@greatmissendenbaptistchurch.com
SUMMARY:World Day of Prayer
DESCRIPTION:Ecumenical service following the WDP order of service to join the world in prayer. Held at Prestwood Methodist Church. Light refreshments afterwards.
URL:https://greatmissendenbaptistchurch.com/event/world-day-of-prayer/
END:VEVENT
BEGIN:VEVENT
DTSTART;TZID=UTC:20230219T150000
DTEND;TZID=UTC:20230219T170000
DTSTAMP:20260422T223437
CREATED:20230210T125647Z
LAST-MODIFIED:20230210T125647Z
UID:1134-1676818800-1676826000@greatmissendenbaptistchurch.com
SUMMARY:Family Fun
DESCRIPTION:Crafts\, short story followed by meal.  All ages welcome.
URL:https://greatmissendenbaptistchurch.com/event/family-fun-4/
LOCATION:Church Hall
END:VEVENT
BEGIN:VEVENT
DTSTART;TZID=UTC:20230217T140000
DTEND;TZID=UTC:20230217T160000
DTSTAMP:20260422T223437
CREATED:20230210T125539Z
LAST-MODIFIED:20230210T125539Z
UID:1132-1676642400-1676649600@greatmissendenbaptistchurch.com
SUMMARY:Tea and games
DESCRIPTION:
URL:https://greatmissendenbaptistchurch.com/event/tea-and-games-14/
LOCATION:Fellowship Room
END:VEVENT
BEGIN:VEVENT
DTSTART;TZID=UTC:20230122T150000
DTEND;TZID=UTC:20230122T170000
DTSTAMP:20260422T223437
CREATED:20230108T123221Z
LAST-MODIFIED:20230108T123221Z
UID:1129-1674399600-1674406800@greatmissendenbaptistchurch.com
SUMMARY:Family Fun
DESCRIPTION:An event for the whole family to enjoy.  Join us for craft activity\, a short story and a meal together. For more information contact Nicki on 07395 032432.
URL:https://greatmissendenbaptistchurch.com/event/family-fun-3/
LOCATION:Church Hall
END:VEVENT
BEGIN:VEVENT
DTSTART;TZID=UTC:20230120T140000
DTEND;TZID=UTC:20230120T160000
DTSTAMP:20260422T223437
CREATED:20230108T122824Z
LAST-MODIFIED:20230108T122824Z
UID:1125-1674223200-1674230400@greatmissendenbaptistchurch.com
SUMMARY:Tea and Games
DESCRIPTION:Join us to play board games and cards (all for fun!)\, meet with others and share tea\, sandwiches and cakes.
URL:https://greatmissendenbaptistchurch.com/event/tea-and-games-13/
LOCATION:Fellowship Room
END:VEVENT
BEGIN:VEVENT
DTSTART;TZID=UTC:20230106T140000
DTEND;TZID=UTC:20230106T160000
DTSTAMP:20260422T223437
CREATED:20221205T121835Z
LAST-MODIFIED:20221205T121849Z
UID:1120-1673013600-1673020800@greatmissendenbaptistchurch.com
SUMMARY:Tea and games
DESCRIPTION:Join us to play a selection of board games\, or cards\, to chat and share in a light tea of sandwiches and cake.
URL:https://greatmissendenbaptistchurch.com/event/tea-and-games-12/
LOCATION:Fellowship Room
END:VEVENT
BEGIN:VEVENT
DTSTART;TZID=UTC:20221224T233000
DTEND;TZID=UTC:20221225T000000
DTSTAMP:20260422T223437
CREATED:20221205T122110Z
LAST-MODIFIED:20221205T122118Z
UID:1122-1671924600-1671926400@greatmissendenbaptistchurch.com
SUMMARY:Midnight communion
DESCRIPTION:Please come along for an informal communion around a table to see in Christmas day. We will commence at 11.30pm and share communion at 12.00 midnight.
URL:https://greatmissendenbaptistchurch.com/event/midnight-communion/
LOCATION:Church
END:VEVENT
BEGIN:VEVENT
DTSTART;TZID=UTC:20221218T150000
DTEND;TZID=UTC:20221218T160000
DTSTAMP:20260422T223437
CREATED:20221116T164658Z
LAST-MODIFIED:20221116T164910Z
UID:1117-1671375600-1671379200@greatmissendenbaptistchurch.com
SUMMARY:Christmas Carols
DESCRIPTION:Join us for our Christmas Carols Service followed with tea\, coffee and mince pies.  Everyone welcome.
URL:https://greatmissendenbaptistchurch.com/event/christmas-carols/
LOCATION:Church
END:VEVENT
BEGIN:VEVENT
DTSTART;TZID=UTC:20221211T150000
DTEND;TZID=UTC:20221211T170000
DTSTAMP:20260422T223437
CREATED:20221116T163905Z
LAST-MODIFIED:20221116T163919Z
UID:1113-1670770800-1670778000@greatmissendenbaptistchurch.com
SUMMARY:Christmas Family Fun with Nativity Puppet Show
DESCRIPTION:Come and join us for craft activities followed with a nativity puppet show and finishing with a meal. All families welcome\, children\, parents\, grandparents\, carers and guardians. 3.00pm – 5.00pm. \nThere is no charge for this event but if you would please let us know if you are coming\, with any dietary requirements\, that would be very much appreciated so we ensure we cater appropriately.  Please text/telephone Nicki on 07395 032432 or email nicolapitt672@gmail.com
URL:https://greatmissendenbaptistchurch.com/event/christmas-family-fun-with-nativity-puppet-show/
LOCATION:Church Hall
END:VEVENT
BEGIN:VEVENT
DTSTART;TZID=UTC:20221202T140000
DTEND;TZID=UTC:20221202T160000
DTSTAMP:20260422T223437
CREATED:20220701T113520Z
LAST-MODIFIED:20220701T113528Z
UID:1098-1669989600-1669996800@greatmissendenbaptistchurch.com
SUMMARY:Tea and games
DESCRIPTION:Come and join us to play a variety of board and card games\, with sandwiches\, cakes\, tea and coffee.
URL:https://greatmissendenbaptistchurch.com/event/tea-and-games-11/
END:VEVENT
BEGIN:VEVENT
DTSTART;TZID=UTC:20221126T083000
DTEND;TZID=UTC:20221126T100000
DTSTAMP:20260422T223437
CREATED:20221116T164429Z
LAST-MODIFIED:20221116T164429Z
UID:1115-1669451400-1669456800@greatmissendenbaptistchurch.com
SUMMARY:Breakfast and talk
DESCRIPTION:Join us for breakfast and a talk\, our guest speaker being Rev’d Ruth Bottoms. There is a charge of £5 payable on the morning (although if that is a problem just let us know when booking). There is a choice of cooked or continental breakfast.  We do require you to book a place and let us know of any dietary requirements and your choice of cooked or continental at that time.  Telephone/text Andrew on 07871 506797 or email gmbc.secr@gmail.com.
URL:https://greatmissendenbaptistchurch.com/event/breakfast-and-talk/
LOCATION:Church Hall
END:VEVENT
BEGIN:VEVENT
DTSTART;TZID=UTC:20221120T150000
DTEND;TZID=UTC:20221120T170000
DTSTAMP:20260422T223437
CREATED:20220701T112131Z
LAST-MODIFIED:20220701T112139Z
UID:1088-1668956400-1668963600@greatmissendenbaptistchurch.com
SUMMARY:Family Fun
DESCRIPTION:Come and join us for a time of fun with craft activities\, bible story and meal. For all families including grandparents\, parents\, guardians and children of all ages.  There is no charge for these sessions\, donations are welcome. Please contact Nicki on nicolapitt672@gmail.com for more information or to book a place.
URL:https://greatmissendenbaptistchurch.com/event/family-fun-12/
ORGANIZER;CN="Nicki Pitt":MAILTO:nicolapitt672@gmail.com
END:VEVENT
BEGIN:VEVENT
DTSTART;TZID=UTC:20221104T140000
DTEND;TZID=UTC:20221104T160000
DTSTAMP:20260422T223437
CREATED:20220701T113419Z
LAST-MODIFIED:20220701T113428Z
UID:1096-1667570400-1667577600@greatmissendenbaptistchurch.com
SUMMARY:Tea and games
DESCRIPTION:Come and join us to play a variety of board and card games\, with sandwiches\, cakes\, tea and coffee.
URL:https://greatmissendenbaptistchurch.com/event/tea-and-games-10/
END:VEVENT
BEGIN:VEVENT
DTSTART;TZID=UTC:20221023T150000
DTEND;TZID=UTC:20221023T170000
DTSTAMP:20260422T223437
CREATED:20220701T112003Z
LAST-MODIFIED:20220701T112041Z
UID:1086-1666537200-1666544400@greatmissendenbaptistchurch.com
SUMMARY:Family Fun
DESCRIPTION:Come and join us for a time of fun with craft activities\, bible story and meal. For all families including grandparents\, parents\, guardians and children of all ages.  There is no charge for these sessions\, donations are welcome. Please contact Nicki on nicolapitt672@gmail.com for more information or to book a place.
URL:https://greatmissendenbaptistchurch.com/event/family-fun-11/
ORGANIZER;CN="Nicki Pitt":MAILTO:nicolapitt672@gmail.com
END:VEVENT
BEGIN:VEVENT
DTSTART;TZID=UTC:20221007T140000
DTEND;TZID=UTC:20221007T160000
DTSTAMP:20260422T223437
CREATED:20220701T113319Z
LAST-MODIFIED:20220701T113328Z
UID:1094-1665151200-1665158400@greatmissendenbaptistchurch.com
SUMMARY:Tea and games
DESCRIPTION:Come and join us to play a variety of board and card games\, with sandwiches\, cakes\, tea and coffee.
URL:https://greatmissendenbaptistchurch.com/event/tea-and-games-9/
END:VEVENT
BEGIN:VEVENT
DTSTART;TZID=UTC:20220925T150000
DTEND;TZID=UTC:20220925T170000
DTSTAMP:20260422T223437
CREATED:20220701T111848Z
LAST-MODIFIED:20220701T111913Z
UID:1084-1664118000-1664125200@greatmissendenbaptistchurch.com
SUMMARY:Family Fun
DESCRIPTION:Come and join us for a time of fun with craft activities\, bible story and meal. For all families including grandparents\, parents\, guardians and children of all ages.  There is no charge for these sessions\, donations are welcome. Please contact Nicki on nicolapitt672@gmail.com for more information or to book a place.
URL:https://greatmissendenbaptistchurch.com/event/family-fun-10/
ORGANIZER;CN="Nicki Pitt":MAILTO:nicolapitt672@gmail.com
END:VEVENT
BEGIN:VEVENT
DTSTART;TZID=UTC:20220910T083000
DTEND;TZID=UTC:20220910T103000
DTSTAMP:20260422T223437
CREATED:20220808T110031Z
LAST-MODIFIED:20220808T110210Z
UID:1103-1662798600-1662805800@greatmissendenbaptistchurch.com
SUMMARY:Ladies' breakfast with speaker Fiona Castle
DESCRIPTION:All ladies are welcome to join us for breakfast together on Saturday September 10th at 8.30am. After we have enjoyed cereal and continental choice of breakfast we will be entertained with a talk by Fiona Castle.  Tickets cost £5\, to be booked by either telephoning 07871 506797 or emailing gmbc.secr@gmail.com\, and paid for on the morning.  If cost is a problem please do not let that stop you coming to socialise and hear Fiona\, just contact us as above.  More details are on the leaflet link below. \nLadies’ breakfast leaflet 10 09 2022
URL:https://greatmissendenbaptistchurch.com/event/ladies-breakfast-with-speaker-fiona-castle/
LOCATION:Church
END:VEVENT
BEGIN:VEVENT
DTSTART;TZID=UTC:20220902T140000
DTEND;TZID=UTC:20220902T160000
DTSTAMP:20260422T223437
CREATED:20220701T113225Z
LAST-MODIFIED:20220701T113232Z
UID:1092-1662127200-1662134400@greatmissendenbaptistchurch.com
SUMMARY:Tea and games
DESCRIPTION:Come and join us to play a variety of board and card games\, with sandwiches\, cakes\, tea and coffee.
URL:https://greatmissendenbaptistchurch.com/event/tea-and-games-8/
END:VEVENT
BEGIN:VEVENT
DTSTART;TZID=UTC:20220826T113000
DTEND;TZID=UTC:20220826T133000
DTSTAMP:20260422T223437
CREATED:20220701T111632Z
LAST-MODIFIED:20220701T111752Z
UID:1082-1661513400-1661520600@greatmissendenbaptistchurch.com
SUMMARY:Family Fun
DESCRIPTION:Come and join us for a time of fun with craft activities\, bible story and meal. For all families including grandparents\, parents\, guardians and children of all ages.  There is no charge for these sessions\, donations are welcome. Please contact Nicki on nicolapitt672@gmail.com for more information or to book a place.
URL:https://greatmissendenbaptistchurch.com/event/family-fun-9/
ORGANIZER;CN="Nicki Pitt":MAILTO:nicolapitt672@gmail.com
END:VEVENT
BEGIN:VEVENT
DTSTART;TZID=UTC:20220819T113000
DTEND;TZID=UTC:20220819T133000
DTSTAMP:20260422T223437
CREATED:20220701T110426Z
LAST-MODIFIED:20220701T110437Z
UID:1078-1660908600-1660915800@greatmissendenbaptistchurch.com
SUMMARY:Family Fun
DESCRIPTION:Come and join us for a time of fun with craft activities\, bible story and meal. For all families including grandparents\, parents\, guardians and children of all ages.  There is no charge for these sessions\, donations are welcome. Please contact Nicki on nicolapitt672@gmail.com for more information or to book a place.
URL:https://greatmissendenbaptistchurch.com/event/family-fun-8/
ORGANIZER;CN="Nicki Pitt":MAILTO:nicolapitt672@gmail.com
END:VEVENT
BEGIN:VEVENT
DTSTART;TZID=UTC:20220805T140000
DTEND;TZID=UTC:20220805T160000
DTSTAMP:20260422T223437
CREATED:20220701T113122Z
LAST-MODIFIED:20220701T113133Z
UID:1090-1659708000-1659715200@greatmissendenbaptistchurch.com
SUMMARY:Tea and games
DESCRIPTION:Come and join us to play a variety of board and card games\, with sandwiches\, cakes\, tea and coffee.
URL:https://greatmissendenbaptistchurch.com/event/tea-and-games-7/
END:VEVENT
BEGIN:VEVENT
DTSTART;TZID=UTC:20220805T113000
DTEND;TZID=UTC:20220805T133000
DTSTAMP:20260422T223437
CREATED:20220701T110235Z
LAST-MODIFIED:20220701T110235Z
UID:1076-1659699000-1659706200@greatmissendenbaptistchurch.com
SUMMARY:Family Fun
DESCRIPTION:Come and join us for a time of fun with craft activities\, bible story and meal. For all families including grandparents\, parents\, guardians and children of all ages.  There is no charge for these sessions\, donations are welcome. Please contact Nicki on nicolapitt672@gmail.com for more information or to book a place.
URL:https://greatmissendenbaptistchurch.com/event/family-fun-7/
ORGANIZER;CN="Nicki Pitt":MAILTO:nicolapitt672@gmail.com
END:VEVENT
END:VCALENDAR