BEGIN:VCALENDAR
VERSION:2.0
PRODID:-//Great Missenden Baptist Church - ECPv6.15.20//NONSGML v1.0//EN
CALSCALE:GREGORIAN
METHOD:PUBLISH
X-WR-CALNAME:Great Missenden Baptist Church
X-ORIGINAL-URL:https://greatmissendenbaptistchurch.com
X-WR-CALDESC:Events for Great Missenden Baptist Church
REFRESH-INTERVAL;VALUE=DURATION:PT1H
X-Robots-Tag:noindex
X-PUBLISHED-TTL:PT1H
BEGIN:VTIMEZONE
TZID:UTC
BEGIN:STANDARD
TZOFFSETFROM:+0000
TZOFFSETTO:+0000
TZNAME:UTC
DTSTART:20160101T000000
END:STANDARD
END:VTIMEZONE
BEGIN:VEVENT
DTSTART;TZID=UTC:20171001T100000
DTEND;TZID=UTC:20171001T230000
DTSTAMP:20260422T220212
CREATED:20170916T104510Z
LAST-MODIFIED:20170916T104510Z
UID:609-1506852000-1506898800@greatmissendenbaptistchurch.com
SUMMARY:Harvest Festival
DESCRIPTION:Our theme for Harvest this year is Wonderfully Made – BMS are highlighting the work of Judy Cooke in Thailand where she supports severely disabled and disadvantaged children giving them the opportunity to lead as normal a life as possible.
URL:https://greatmissendenbaptistchurch.com/event/harvest-festival/
LOCATION:Great Missenden Baptist Church
END:VEVENT
BEGIN:VEVENT
DTSTART;TZID=UTC:20170723T170000
DTEND;TZID=UTC:20170723T183000
DTSTAMP:20260422T220212
CREATED:20170722T203626Z
LAST-MODIFIED:20170722T203626Z
UID:576-1500829200-1500834600@greatmissendenbaptistchurch.com
SUMMARY:Lighthouse 2017
DESCRIPTION:Lighthouse 2017 begins tomorrow with a Commissioning Service at 5.00pm \n 
URL:https://greatmissendenbaptistchurch.com/event/lighthouse-2017/
END:VEVENT
BEGIN:VEVENT
DTSTART;TZID=UTC:20170721T143000
DTEND;TZID=UTC:20170721T163000
DTSTAMP:20260422T220212
CREATED:20170126T173530Z
LAST-MODIFIED:20170713T054643Z
UID:384-1500647400-1500654600@greatmissendenbaptistchurch.com
SUMMARY:Table Tennis
DESCRIPTION:Come and play table tennis on Friday afternoons\, we have two tables\, adults from 2.30 – 3.30pm and then youngsters from 3.30 onwards.
URL:https://greatmissendenbaptistchurch.com/event/table-tennis-2/
END:VEVENT
BEGIN:VEVENT
DTSTART;TZID=UTC:20170629T200000
DTEND;TZID=UTC:20170629T220000
DTSTAMP:20260422T220212
CREATED:20170622T174249Z
LAST-MODIFIED:20170622T174249Z
UID:559-1498766400-1498773600@greatmissendenbaptistchurch.com
SUMMARY:AGM and church meeting
DESCRIPTION:This week on Thursday – everyone from our congregation is welcome.
URL:https://greatmissendenbaptistchurch.com/event/agm-and-church-meeting/
END:VEVENT
BEGIN:VEVENT
DTSTART;TZID=UTC:20170612T160000
DTEND;TZID=UTC:20170612T180000
DTSTAMP:20260422T220212
CREATED:20170519T170852Z
LAST-MODIFIED:20170609T103212Z
UID:542-1497283200-1497290400@greatmissendenbaptistchurch.com
SUMMARY:Pop-up Kitchen
DESCRIPTION:Join us in our new Kitchen\, cook and share a delicious meal.  Every Monday at 4.00pm in the church hall.  Everyone is welcome\, there is space for games\, homework and just a chat.
URL:https://greatmissendenbaptistchurch.com/event/pop-up-kitchen/
LOCATION:Church Hall
END:VEVENT
BEGIN:VEVENT
DTSTART;TZID=UTC:20170612T100000
DTEND;TZID=UTC:20170612T113000
DTSTAMP:20260422T220212
CREATED:20170519T170421Z
LAST-MODIFIED:20170609T103122Z
UID:539-1497261600-1497267000@greatmissendenbaptistchurch.com
SUMMARY:Toddlers
DESCRIPTION:We are a small friendly group meeting on Monday mornings in the church hall.  Great facilities and lots of fun.
URL:https://greatmissendenbaptistchurch.com/event/toddlers/
END:VEVENT
BEGIN:VEVENT
DTSTART;TZID=UTC:20170522T193000
DTEND;TZID=UTC:20170522T220000
DTSTAMP:20260422T220212
CREATED:20170401T150514Z
LAST-MODIFIED:20170512T163612Z
UID:492-1495481400-1495490400@greatmissendenbaptistchurch.com
SUMMARY:Film Night - in aid of Christian Aid
DESCRIPTION:We invite you to a showing of “A United Kingdom” starring Rosamund Pike and David Oyelowo\, which tells the inspiring real-life romance of Seretse Khama\, King of Bechuanaland (modern Botswana) and Ruth Williams\, the London office worker he married in 1948 in the face of fierce opposition from their families and the British and South African governments. A United Kingdom celebrates one of the greatest love stories ever told. \n  \nPopcorn and soft drinks available\, this event is free\, but donations to Christian Aid will be greatly appreciated.
URL:https://greatmissendenbaptistchurch.com/event/film-night-in-aid-of-christian-aid/
LOCATION:Church
END:VEVENT
BEGIN:VEVENT
DTSTART;TZID=UTC:20170521T183000
DTEND;TZID=UTC:20170521T200000
DTSTAMP:20260422T220212
CREATED:20170503T111555Z
LAST-MODIFIED:20170503T111613Z
UID:514-1495391400-1495396800@greatmissendenbaptistchurch.com
SUMMARY:Bucks Baptist Forum
DESCRIPTION:“The Gathering”  – an evening with Lou Webber – Pastor at Broadway Baptist Church.
URL:https://greatmissendenbaptistchurch.com/event/bucks-baptist-forum/
LOCATION:Broadway Baptist Church\, Chesham
END:VEVENT
BEGIN:VEVENT
DTSTART;TZID=UTC:20170518T194500
DTEND;TZID=UTC:20170518T220000
DTSTAMP:20260422T220212
CREATED:20170511T105901Z
LAST-MODIFIED:20170511T105901Z
UID:523-1495136700-1495144800@greatmissendenbaptistchurch.com
SUMMARY:Leaders' Meeting
DESCRIPTION:
URL:https://greatmissendenbaptistchurch.com/event/leaders-meeting-2/
END:VEVENT
BEGIN:VEVENT
DTSTART;TZID=UTC:20170515T160000
DTEND;TZID=UTC:20170515T180000
DTSTAMP:20260422T220212
CREATED:20170422T071523Z
LAST-MODIFIED:20170512T163745Z
UID:506-1494864000-1494871200@greatmissendenbaptistchurch.com
SUMMARY:Pop-up Kitchen and Garden
DESCRIPTION:Come and cook a meal in our brand new kitchen\, Mondays from 4.00pm.  Homework facilities and games for families\, enjoy a cooked meal together and there will be extras to take home.
URL:https://greatmissendenbaptistchurch.com/event/pop-up-kitchen-and-garden/
LOCATION:Church Hall
END:VEVENT
BEGIN:VEVENT
DTSTART;TZID=UTC:20170413T180000
DTEND;TZID=UTC:20170413T190000
DTSTAMP:20260422T220212
CREATED:20170304T143057Z
LAST-MODIFIED:20170304T143150Z
UID:475-1492106400-1492110000@greatmissendenbaptistchurch.com
SUMMARY:Maundy Thursday Supper
DESCRIPTION:A simple meal to commemorate the Last Supper which will include communion. \n 
URL:https://greatmissendenbaptistchurch.com/event/maundy-thursday-supper/
LOCATION:Fellowship Room
END:VEVENT
BEGIN:VEVENT
DTSTART;TZID=UTC:20170411T080000
DTEND;TZID=UTC:20170415T120000
DTSTAMP:20260422T220212
CREATED:20170401T150730Z
LAST-MODIFIED:20170401T150730Z
UID:494-1491897600-1492257600@greatmissendenbaptistchurch.com
SUMMARY:Holy Week
DESCRIPTION:Tuesday 11th – The Passion of the Christ – Film in church 8.00pm \nWednesday 12th – A prayer experience at the Catholic \nChurch led by Revd. Martin Hatfield at 6.45 for one hour. \nMaundy Thursday \nGMBC Supper and Communion at 6.30pm .This supper will be catered for. \nGood Friday – Walk of Witness starting at St Peter and Paul at 9am\, Catholic Church 9.20am\, Green Man 9.40am\, Prestwood Village Hall Service 10.30am. \nEaster Sunday 10.00 am Communion Service
URL:https://greatmissendenbaptistchurch.com/event/holy-week/
END:VEVENT
BEGIN:VEVENT
DTSTART;TZID=UTC:20170404T200000
DTEND;TZID=UTC:20170404T213000
DTSTAMP:20260422T220212
CREATED:20170304T142923Z
LAST-MODIFIED:20170305T145616Z
UID:473-1491336000-1491341400@greatmissendenbaptistchurch.com
SUMMARY:Coffee and ..... Flower Arranging
DESCRIPTION:Tuesday 7th March in the Fellowship Room at 8.00pm \nCome and learn a new skill
URL:https://greatmissendenbaptistchurch.com/event/coffee-and-flower-arranging/
LOCATION:Fellowship Room
END:VEVENT
BEGIN:VEVENT
DTSTART;TZID=UTC:20170323T194500
DTEND;TZID=UTC:20170323T220000
DTSTAMP:20260422T220212
CREATED:20170222T111202Z
LAST-MODIFIED:20170413T191259Z
UID:421-1490298300-1490306400@greatmissendenbaptistchurch.com
SUMMARY:Leaders' Meeting
DESCRIPTION:
URL:https://greatmissendenbaptistchurch.com/event/leaders-meeting/
END:VEVENT
BEGIN:VEVENT
DTSTART;TZID=UTC:20170219T180000
DTEND;TZID=UTC:20170219T190000
DTSTAMP:20260422T220212
CREATED:20170113T115749Z
LAST-MODIFIED:20170216T175716Z
UID:366-1487527200-1487530800@greatmissendenbaptistchurch.com
SUMMARY:Worship and Praise Service
DESCRIPTION:Join us at 6.00pm for an hour of worship music and praise. \nSuitable for all ages
URL:https://greatmissendenbaptistchurch.com/event/worship-and-praise-service/
END:VEVENT
BEGIN:VEVENT
DTSTART;TZID=UTC:20170120T143000
DTEND;TZID=UTC:20170120T163000
DTSTAMP:20260422T220212
CREATED:20170118T174603Z
LAST-MODIFIED:20170118T174603Z
UID:372-1484922600-1484929800@greatmissendenbaptistchurch.com
SUMMARY:Table Tennis
DESCRIPTION:
URL:https://greatmissendenbaptistchurch.com/event/table-tennis/
END:VEVENT
BEGIN:VEVENT
DTSTART;TZID=UTC:20170120T093000
DTEND;TZID=UTC:20170120T100000
DTSTAMP:20260422T220212
CREATED:20170106T165433Z
LAST-MODIFIED:20170118T174410Z
UID:356-1484904600-1484906400@greatmissendenbaptistchurch.com
SUMMARY:Prayer
DESCRIPTION:
URL:https://greatmissendenbaptistchurch.com/event/prayer/
END:VEVENT
BEGIN:VEVENT
DTSTART;TZID=UTC:20170119T073000
DTEND;TZID=UTC:20170119T213000
DTSTAMP:20260422T220212
CREATED:20170119T193046Z
LAST-MODIFIED:20170118T174451Z
UID:354-1484811000-1484861400@greatmissendenbaptistchurch.com
SUMMARY:Music Group Worship and Prayer
DESCRIPTION:Prayer at 7.30\, followed by worship and practice at 8.00pm.  All welcome
URL:https://greatmissendenbaptistchurch.com/event/music-group-worship-and-prayer/
END:VEVENT
BEGIN:VEVENT
DTSTART;TZID=UTC:20170111T103000
DTEND;TZID=UTC:20170111T113000
DTSTAMP:20260422T220212
CREATED:20170106T165210Z
LAST-MODIFIED:20230119T113426Z
UID:352-1484130600-1484134200@greatmissendenbaptistchurch.com
SUMMARY:Bible Study
DESCRIPTION:
URL:https://greatmissendenbaptistchurch.com/event/bible-study-2/
LOCATION:Fellowship Room
END:VEVENT
BEGIN:VEVENT
DTSTART;TZID=UTC:20170109T200000
DTEND;TZID=UTC:20170109T213000
DTSTAMP:20260422T220212
CREATED:20170106T165114Z
LAST-MODIFIED:20170106T165114Z
UID:349-1483992000-1483997400@greatmissendenbaptistchurch.com
SUMMARY:Bible Study
DESCRIPTION:
URL:https://greatmissendenbaptistchurch.com/event/bible-study/
LOCATION:Fellowship Room
END:VEVENT
END:VCALENDAR