BEGIN:VCALENDAR
VERSION:2.0
PRODID:-//Great Missenden Baptist Church - ECPv6.15.20//NONSGML v1.0//EN
CALSCALE:GREGORIAN
METHOD:PUBLISH
X-WR-CALNAME:Great Missenden Baptist Church
X-ORIGINAL-URL:https://greatmissendenbaptistchurch.com
X-WR-CALDESC:Events for Great Missenden Baptist Church
REFRESH-INTERVAL;VALUE=DURATION:PT1H
X-Robots-Tag:noindex
X-PUBLISHED-TTL:PT1H
BEGIN:VTIMEZONE
TZID:UTC
BEGIN:STANDARD
TZOFFSETFROM:+0000
TZOFFSETTO:+0000
TZNAME:UTC
DTSTART:20230101T000000
END:STANDARD
END:VTIMEZONE
BEGIN:VEVENT
DTSTART;TZID=UTC:20250628T120000
DTEND;TZID=UTC:20250628T140000
DTSTAMP:20260422T024544
CREATED:20250616T103815Z
LAST-MODIFIED:20250616T103815Z
UID:1540-1751112000-1751119200@greatmissendenbaptistchurch.com
SUMMARY:Picnic in the Park
DESCRIPTION:Come and join us for a picnic on the Bury Field. 28th June from 12.00 noon. Everyone welcome. \nPicnic in the Park 28th June 2025
URL:https://greatmissendenbaptistchurch.com/event/picnic-in-the-park-2/
END:VEVENT
BEGIN:VEVENT
DTSTART;TZID=UTC:20250620T140000
DTEND;TZID=UTC:20250620T160000
DTSTAMP:20260422T024544
CREATED:20250424T083458Z
LAST-MODIFIED:20250424T083458Z
UID:1534-1750428000-1750435200@greatmissendenbaptistchurch.com
SUMMARY:Tea and Games
DESCRIPTION:Join us to play a selection of board or card games\, or simply to chat with friendly people. Refreshments served at 3.00pm. Free event\, everyone welcome.
URL:https://greatmissendenbaptistchurch.com/event/tea-and-games-45/
LOCATION:Fellowship Room
END:VEVENT
BEGIN:VEVENT
DTSTART;TZID=UTC:20250606T140000
DTEND;TZID=UTC:20250606T160000
DTSTAMP:20260422T024544
CREATED:20250424T083332Z
LAST-MODIFIED:20250424T083332Z
UID:1532-1749218400-1749225600@greatmissendenbaptistchurch.com
SUMMARY:Tea and Games
DESCRIPTION:Join us to play a selection of board or card games\, or simply to chat with friendly people. Refreshments served at 3.00pm. Free event\, everyone welcome.
URL:https://greatmissendenbaptistchurch.com/event/tea-and-games-44/
LOCATION:Fellowship Room
END:VEVENT
BEGIN:VEVENT
DTSTART;TZID=UTC:20250516T140000
DTEND;TZID=UTC:20250516T160000
DTSTAMP:20260422T024544
CREATED:20250414T092856Z
LAST-MODIFIED:20250414T092856Z
UID:1516-1747404000-1747411200@greatmissendenbaptistchurch.com
SUMMARY:Tea and Games
DESCRIPTION:Join us to play a selection of board or card games\, or simply to chat with friendly people. Refreshments served at 3.00pm. Free event.
URL:https://greatmissendenbaptistchurch.com/event/tea-and-games-43/
LOCATION:Fellowship Room
END:VEVENT
BEGIN:VEVENT
DTSTART;TZID=UTC:20250512T193000
DTEND;TZID=UTC:20250512T213000
DTSTAMP:20260422T024544
CREATED:20250424T083118Z
LAST-MODIFIED:20250424T083118Z
UID:1529-1747078200-1747085400@greatmissendenbaptistchurch.com
SUMMARY:Film Night for Christian Aid
DESCRIPTION:We will be showing the film ‘Salmon Fishing in The Yemen’. All donations received will be for Christian Aid. Everyone welcome. \nFilm night poster 12 05 2025 Salmon Fishing Christian Aid
URL:https://greatmissendenbaptistchurch.com/event/film-night-for-christian-aid/
LOCATION:Church
END:VEVENT
BEGIN:VEVENT
DTSTART;TZID=UTC:20250511T113000
DTEND;TZID=UTC:20250511T140000
DTSTAMP:20260422T024544
CREATED:20250424T082750Z
LAST-MODIFIED:20250424T082750Z
UID:1526-1746963000-1746972000@greatmissendenbaptistchurch.com
SUMMARY:VE Day 80th Anniversary 'Street Party'
DESCRIPTION:Come and enjoy sandwiches\, cake\, tea\, coffee and soft drinks on the church driveway (or in the church if weather is inclement). Craft table available for children. Free event. \nVE day 80th street party 11th May
URL:https://greatmissendenbaptistchurch.com/event/ve-day-80th-anniversary-street-party/
LOCATION:Church
END:VEVENT
BEGIN:VEVENT
DTSTART;TZID=UTC:20250502T140000
DTEND;TZID=UTC:20250502T160000
DTSTAMP:20260422T024544
CREATED:20250403T100840Z
LAST-MODIFIED:20250403T100840Z
UID:1505-1746194400-1746201600@greatmissendenbaptistchurch.com
SUMMARY:Tea and Games
DESCRIPTION:Join us to play a selection of board or card games\, or simply a chat with friendly people. Refreshments are served at 3.00pm.
URL:https://greatmissendenbaptistchurch.com/event/tea-and-games-42/
LOCATION:Fellowship Room
END:VEVENT
BEGIN:VEVENT
DTSTART;TZID=UTC:20250418T090000
DTEND;TZID=UTC:20250418T113000
DTSTAMP:20260422T024544
CREATED:20250414T094022Z
LAST-MODIFIED:20250414T094022Z
UID:1523-1744966800-1744975800@greatmissendenbaptistchurch.com
SUMMARY:Good Friday Walk of Witness and Joint Ecumenical Service
DESCRIPTION:On Good Friday the churches from Great Missenden\, Prestwood and Little Kingshill are joining to together for a shared service. \nIf you would like to begin with a walk then please meet at St Peter and St Paul’s church in Gt. Missenden ready to walk at 9.15am. We will then walk via the Baptist Church and then The Immaculate Heart of Mary church in Gt. Missenden up to Prestwood. We will then meet at 10.00am with those walking from different directions and continue to Prestwood Village Hall. \nThe service begins at Prestwood Village Hall at 10.30am. \nEveryone welcome to partake in all or any part of the walk or service.
URL:https://greatmissendenbaptistchurch.com/event/good-friday-walk-of-witness-and-joint-ecumenical-service/
END:VEVENT
BEGIN:VEVENT
DTSTART;TZID=UTC:20250417T180000
DTEND;TZID=UTC:20250417T193000
DTSTAMP:20260422T024544
CREATED:20250414T093153Z
LAST-MODIFIED:20250414T093444Z
UID:1518-1744912800-1744918200@greatmissendenbaptistchurch.com
SUMMARY:Maundy Thursday Meal
DESCRIPTION:Please do join us to share a meal on Maundy Thursday. The story of the Last Supper will be read in short passages throughout the meal and communion will be shared for those who would like (entirely optional). The main objective though is to eat and chat! Free event. \nMaundy Thursday 2025 meal poster
URL:https://greatmissendenbaptistchurch.com/event/maundy-thursday-meal-2/
LOCATION:Great Missenden Baptist Church
END:VEVENT
BEGIN:VEVENT
DTSTART;TZID=UTC:20250413T150000
DTEND;TZID=UTC:20250413T170000
DTSTAMP:20260422T024544
CREATED:20250403T100707Z
LAST-MODIFIED:20250403T100707Z
UID:1502-1744556400-1744563600@greatmissendenbaptistchurch.com
SUMMARY:Palm Sunday song\, craft and food
DESCRIPTION:Join us to celebrate Palm Sunday. A service telling some of the Easter story with favourite hymns\, followed by time for crafts and a buffet tea. Suitable for all ages. Free event. \nPalm Sunday Service 2025 poster
URL:https://greatmissendenbaptistchurch.com/event/palm-sunday-song-craft-and-food/
LOCATION:Church
END:VEVENT
BEGIN:VEVENT
DTSTART;TZID=UTC:20250412T083000
DTEND;TZID=UTC:20250412T100000
DTSTAMP:20260422T024544
CREATED:20250403T100256Z
LAST-MODIFIED:20250403T100256Z
UID:1499-1744446600-1744452000@greatmissendenbaptistchurch.com
SUMMARY:Breakfast and Talk
DESCRIPTION:Come along and enjoy a breakfast\, either cooked or continental. We then enjoy a talk from Dave Gregory\, intertwining faith\, science and the environment. Cost £5\, booking essential. If cost is a problem then do contact us confidentially and it can be waived. Open link below for more details. \nGMBC breakfast poster 12 04 2025
URL:https://greatmissendenbaptistchurch.com/event/breakfast-and-talk-6/
LOCATION:Church Hall
END:VEVENT
BEGIN:VEVENT
DTSTART;TZID=UTC:20250404T140000
DTEND;TZID=UTC:20250404T160000
DTSTAMP:20260422T024544
CREATED:20250403T095848Z
LAST-MODIFIED:20250403T095848Z
UID:1497-1743775200-1743782400@greatmissendenbaptistchurch.com
SUMMARY:Tea and Games
DESCRIPTION:Join us to play a selection of board and card games\, or simply to chat with friendly people. Refreshments served at 3.00pm.
URL:https://greatmissendenbaptistchurch.com/event/tea-and-games-41/
LOCATION:Fellowship Room
END:VEVENT
BEGIN:VEVENT
DTSTART;TZID=UTC:20250222T083000
DTEND;TZID=UTC:20250222T100000
DTSTAMP:20260422T024544
CREATED:20250129T145027Z
LAST-MODIFIED:20250129T145027Z
UID:1425-1740213000-1740218400@greatmissendenbaptistchurch.com
SUMMARY:Breakfast and Talk
DESCRIPTION:Come along for a breakfast and a talk by Ken and June Brazier explaining their work with Mercy Ships. Choice of cooked or continental breakfast. Cost £5 (although not a barrier if not affordable). Booking required. \nGMBC breakfast poster 22 02 2025
URL:https://greatmissendenbaptistchurch.com/event/breakfast-and-talk-5/
LOCATION:Church Hall
END:VEVENT
BEGIN:VEVENT
DTSTART;TZID=UTC:20250221T140000
DTEND;TZID=UTC:20250221T160000
DTSTAMP:20260422T024544
CREATED:20250106T134923Z
LAST-MODIFIED:20250106T134923Z
UID:1421-1740146400-1740153600@greatmissendenbaptistchurch.com
SUMMARY:Tea and Games
DESCRIPTION:Join us to play various board and card games\, or simply to chat with friendly people. Refreshments served at 3.00pm. Free event\, all welcome.
URL:https://greatmissendenbaptistchurch.com/event/tea-and-games-40/
LOCATION:Fellowship Room
END:VEVENT
BEGIN:VEVENT
DTSTART;TZID=UTC:20250220T110000
DTEND;TZID=UTC:20250220T130000
DTSTAMP:20260422T024544
CREATED:20250206T100605Z
LAST-MODIFIED:20250206T100605Z
UID:1489-1740049200-1740056400@greatmissendenbaptistchurch.com
SUMMARY:All Age Film
DESCRIPTION:We will be showing the film “The Rescuers” on Thursday 20th February 2025 at 11.00am. Free event. Buffet lunch afterwards. It is suitable for all ages so everyone is welcome\, whatever age! \nFilm The Rescuers 20 02 2025 poster
URL:https://greatmissendenbaptistchurch.com/event/all-age-film-2/
LOCATION:Church
END:VEVENT
BEGIN:VEVENT
DTSTART;TZID=UTC:20250207T140000
DTEND;TZID=UTC:20250207T160000
DTSTAMP:20260422T024544
CREATED:20250106T134755Z
LAST-MODIFIED:20250106T134755Z
UID:1419-1738936800-1738944000@greatmissendenbaptistchurch.com
SUMMARY:Tea and Games
DESCRIPTION:Join us to play various board or card games\, or simply to chat with friendly people. Refreshments served at 3.00pm. Free event\, all welcome.
URL:https://greatmissendenbaptistchurch.com/event/tea-and-games-39/
LOCATION:Fellowship Room
END:VEVENT
BEGIN:VEVENT
DTSTART;TZID=UTC:20250131T200000
DTEND;TZID=UTC:20250315T200000
DTSTAMP:20260422T024544
CREATED:20250129T145533Z
LAST-MODIFIED:20250129T145533Z
UID:1484-1738353600-1742068800@greatmissendenbaptistchurch.com
SUMMARY:Rugby Six Nations
DESCRIPTION:Join us to watch the Six Nations TV coverage. Schedule attached. Where more than one game bacon sandwiches (or veggie or vegan alternative) will be served. Free event and refreshments\, donations only. \nSix Nations 2025 poster
URL:https://greatmissendenbaptistchurch.com/event/rugby-six-nations/
LOCATION:Great Missenden Baptist Church
END:VEVENT
BEGIN:VEVENT
DTSTART;TZID=UTC:20250124T140000
DTEND;TZID=UTC:20250124T160000
DTSTAMP:20260422T024544
CREATED:20250106T134634Z
LAST-MODIFIED:20250106T134634Z
UID:1417-1737727200-1737734400@greatmissendenbaptistchurch.com
SUMMARY:Tea and Games
DESCRIPTION:Join us to play various board or card games\, or simply to chat with friendly people. Refreshments served at 3.00pm. Free event\, all welcome.
URL:https://greatmissendenbaptistchurch.com/event/tea-and-games-38/
LOCATION:Fellowship Room
END:VEVENT
BEGIN:VEVENT
DTSTART;TZID=UTC:20250120T193000
DTEND;TZID=UTC:20250120T213000
DTSTAMP:20260422T024544
CREATED:20250106T134524Z
LAST-MODIFIED:20250106T134524Z
UID:1414-1737401400-1737408600@greatmissendenbaptistchurch.com
SUMMARY:Film night
DESCRIPTION:The film “Jumanji” will be shown on Monday 20th January at 7.30pm. Free event\, all welcome. \nFilm night – 20 01 2025 Jumanji poster
URL:https://greatmissendenbaptistchurch.com/event/film-night-5/
LOCATION:Church
END:VEVENT
BEGIN:VEVENT
DTSTART;TZID=UTC:20250110T140000
DTEND;TZID=UTC:20250110T160000
DTSTAMP:20260422T024544
CREATED:20250106T134317Z
LAST-MODIFIED:20250106T134317Z
UID:1412-1736517600-1736524800@greatmissendenbaptistchurch.com
SUMMARY:Tea and Games
DESCRIPTION:Join us to play various board or card games\, or simply to chat with friendly people. Refreshments served at 3.00pm. Free event\, everyone welcome.
URL:https://greatmissendenbaptistchurch.com/event/tea-and-games-37/
LOCATION:Fellowship Room
END:VEVENT
BEGIN:VEVENT
DTSTART;TZID=UTC:20241222T150000
DTEND;TZID=UTC:20241222T163000
DTSTAMP:20260422T024544
CREATED:20241204T151828Z
LAST-MODIFIED:20241204T151834Z
UID:1399-1734879600-1734885000@greatmissendenbaptistchurch.com
SUMMARY:Christmas Carols
DESCRIPTION:Come and enjoy Christmas Carols\, some played by our musicians and others played through the audio system\, with PowerPoint and a selection of Bible readings interspersed. Tea\, coffee and mince pies afterwards. Free event\, everyone welcome. \nCarol Concert Dec 2024 poster
URL:https://greatmissendenbaptistchurch.com/event/christmas-carols-2/
LOCATION:Church
END:VEVENT
BEGIN:VEVENT
DTSTART;TZID=UTC:20241220T140000
DTEND;TZID=UTC:20241220T160000
DTSTAMP:20260422T024544
CREATED:20241204T151518Z
LAST-MODIFIED:20241204T151528Z
UID:1397-1734703200-1734710400@greatmissendenbaptistchurch.com
SUMMARY:Tea and Games
DESCRIPTION:Join us to play a selection of board or card games\, or just come and chat. Tea served at 3.00pm. Free event\, everyone welcome.
URL:https://greatmissendenbaptistchurch.com/event/tea-and-games-36/
LOCATION:Fellowship Room
END:VEVENT
BEGIN:VEVENT
DTSTART;TZID=UTC:20241209T193000
DTEND;TZID=UTC:20241209T213000
DTSTAMP:20260422T024544
CREATED:20241204T151258Z
LAST-MODIFIED:20241204T151313Z
UID:1395-1733772600-1733779800@greatmissendenbaptistchurch.com
SUMMARY:Film Night
DESCRIPTION:Join us to enjoy the film “A Christmas Carol” showing in the church. Film begins at 7.30pm with refreshments available. Free event. \nFilm Night – 09 12 2024 poster Christmas Carol
URL:https://greatmissendenbaptistchurch.com/event/film-night-4/
LOCATION:Church
END:VEVENT
BEGIN:VEVENT
DTSTART;TZID=UTC:20241208T150000
DTEND;TZID=UTC:20241208T170000
DTSTAMP:20260422T024544
CREATED:20241204T151017Z
LAST-MODIFIED:20241204T151031Z
UID:1390-1733670000-1733677200@greatmissendenbaptistchurch.com
SUMMARY:Nativity Puppet Show
DESCRIPTION:Come and watch our wooden spoon puppets tell the Nativity story\, suitable for all ages. Crafts afterwards followed by a meal. Free event. See poster. \nNativity puppet show Dec 2024
URL:https://greatmissendenbaptistchurch.com/event/nativity-puppet-show/
LOCATION:Church
END:VEVENT
BEGIN:VEVENT
DTSTART;TZID=UTC:20241206T140000
DTEND;TZID=UTC:20241206T160000
DTSTAMP:20260422T024544
CREATED:20241018T091409Z
LAST-MODIFIED:20241018T091409Z
UID:1375-1733493600-1733500800@greatmissendenbaptistchurch.com
SUMMARY:Tea and Games
DESCRIPTION:Join us to play a variety of board or card games\, or simply to chat with a group of friendly people between 2.00 – 4.00pm. Refreshments are served at 3.00pm. Free event.
URL:https://greatmissendenbaptistchurch.com/event/tea-and-games-35/
LOCATION:Fellowship Room
END:VEVENT
BEGIN:VEVENT
DTSTART;TZID=UTC:20241123T150000
DTEND;TZID=UTC:20241123T180000
DTSTAMP:20260422T024544
CREATED:20241018T091953Z
LAST-MODIFIED:20241018T091953Z
UID:1380-1732374000-1732384800@greatmissendenbaptistchurch.com
SUMMARY:Village Festive Evening
DESCRIPTION:The church will be open during the village festival. Free tea\, coffee and hot chocolate. There will be an opportunity to make a Christmas decoration or craft\, with a selection of films showing. Everyone is welcome.
URL:https://greatmissendenbaptistchurch.com/event/village-festive-evening/
LOCATION:Church
END:VEVENT
BEGIN:VEVENT
DTSTART;TZID=UTC:20241115T140000
DTEND;TZID=UTC:20241115T160000
DTSTAMP:20260422T024544
CREATED:20241018T091313Z
LAST-MODIFIED:20241018T091313Z
UID:1373-1731679200-1731686400@greatmissendenbaptistchurch.com
SUMMARY:Tea and Games
DESCRIPTION:Join us to play a variety of board or card games\, or simply to chat with a group of friendly people between 2.00 – 4.00pm. Refreshments are served at 3.00pm. Free event.
URL:https://greatmissendenbaptistchurch.com/event/tea-and-games-34/
LOCATION:Fellowship Room
END:VEVENT
BEGIN:VEVENT
DTSTART;TZID=UTC:20241101T140000
DTEND;TZID=UTC:20241101T160000
DTSTAMP:20260422T024544
CREATED:20241018T091120Z
LAST-MODIFIED:20241018T091224Z
UID:1371-1730469600-1730476800@greatmissendenbaptistchurch.com
SUMMARY:Tea and Games
DESCRIPTION:Join us to play a variety of board or card games\, or simply to chat with a group of friendly people between 2.00 – 4.00pm. Refreshments are served at 3.00pm. Free event.
URL:https://greatmissendenbaptistchurch.com/event/tea-and-games-33/
LOCATION:Fellowship Room
END:VEVENT
BEGIN:VEVENT
DTSTART;TZID=UTC:20241031T110000
DTEND;TZID=UTC:20241031T133000
DTSTAMP:20260422T024544
CREATED:20241018T091706Z
LAST-MODIFIED:20241018T091706Z
UID:1377-1730372400-1730381400@greatmissendenbaptistchurch.com
SUMMARY:All age film
DESCRIPTION:We will be showing the film “Despicable Me”\, suitable for all ages\, Thursday 31st October 2024. Film begins at 11.00am and a light buffet lunch served afterwards. This is a free event\, with donations only.Film Despicable Me 31 10 2024 poster
URL:https://greatmissendenbaptistchurch.com/event/all-age-film/
LOCATION:Church
END:VEVENT
BEGIN:VEVENT
DTSTART;TZID=UTC:20241019T083000
DTEND;TZID=UTC:20241019T100000
DTSTAMP:20260422T024544
CREATED:20240916T160410Z
LAST-MODIFIED:20240916T160410Z
UID:1361-1729326600-1729332000@greatmissendenbaptistchurch.com
SUMMARY:Breakfast and Talk
DESCRIPTION:We will be serving breakfast at 8.30am and Matt Penny\, the lead chaplain at One YMCA will speak afterwards. Cost is £5 and booking essential. Please see attached for more details. \nGMBC breakfast poster 19 10 2024
URL:https://greatmissendenbaptistchurch.com/event/breakfast-and-talk-4/
LOCATION:Church Hall
END:VEVENT
END:VCALENDAR