BEGIN:VCALENDAR
VERSION:2.0
PRODID:-//Great Missenden Baptist Church - ECPv6.15.20//NONSGML v1.0//EN
CALSCALE:GREGORIAN
METHOD:PUBLISH
X-WR-CALNAME:Great Missenden Baptist Church
X-ORIGINAL-URL:https://greatmissendenbaptistchurch.com
X-WR-CALDESC:Events for Great Missenden Baptist Church
REFRESH-INTERVAL;VALUE=DURATION:PT1H
X-Robots-Tag:noindex
X-PUBLISHED-TTL:PT1H
BEGIN:VTIMEZONE
TZID:UTC
BEGIN:STANDARD
TZOFFSETFROM:+0000
TZOFFSETTO:+0000
TZNAME:UTC
DTSTART:20230101T000000
END:STANDARD
END:VTIMEZONE
BEGIN:VEVENT
DTSTART;TZID=UTC:20241031T110000
DTEND;TZID=UTC:20241031T133000
DTSTAMP:20260421T233127
CREATED:20241018T091706Z
LAST-MODIFIED:20241018T091706Z
UID:1377-1730372400-1730381400@greatmissendenbaptistchurch.com
SUMMARY:All age film
DESCRIPTION:We will be showing the film “Despicable Me”\, suitable for all ages\, Thursday 31st October 2024. Film begins at 11.00am and a light buffet lunch served afterwards. This is a free event\, with donations only.Film Despicable Me 31 10 2024 poster
URL:https://greatmissendenbaptistchurch.com/event/all-age-film/
LOCATION:Church
END:VEVENT
BEGIN:VEVENT
DTSTART;TZID=UTC:20241019T083000
DTEND;TZID=UTC:20241019T100000
DTSTAMP:20260421T233127
CREATED:20240916T160410Z
LAST-MODIFIED:20240916T160410Z
UID:1361-1729326600-1729332000@greatmissendenbaptistchurch.com
SUMMARY:Breakfast and Talk
DESCRIPTION:We will be serving breakfast at 8.30am and Matt Penny\, the lead chaplain at One YMCA will speak afterwards. Cost is £5 and booking essential. Please see attached for more details. \nGMBC breakfast poster 19 10 2024
URL:https://greatmissendenbaptistchurch.com/event/breakfast-and-talk-4/
LOCATION:Church Hall
END:VEVENT
BEGIN:VEVENT
DTSTART;TZID=UTC:20241018T140000
DTEND;TZID=UTC:20241018T160000
DTSTAMP:20260421T233127
CREATED:20240916T160030Z
LAST-MODIFIED:20240916T160030Z
UID:1359-1729260000-1729267200@greatmissendenbaptistchurch.com
SUMMARY:Tea and Games
DESCRIPTION:Join us to play various card and board games\, or simply to chat to friendly people. Refreshments served at 3.00pm.
URL:https://greatmissendenbaptistchurch.com/event/tea-and-games-32/
LOCATION:Fellowship Room
END:VEVENT
BEGIN:VEVENT
DTSTART;TZID=UTC:20241012T190000
DTEND;TZID=UTC:20241012T203000
DTSTAMP:20260421T233127
CREATED:20240916T155916Z
LAST-MODIFIED:20240916T155916Z
UID:1357-1728759600-1728765000@greatmissendenbaptistchurch.com
SUMMARY:Harvest Supper (Bring and Share)
DESCRIPTION:Please do come along to share a meal and give thanks for the harvest\, provision of food to nourish and sustain us. It is a bring and share\, but if you are unable to bring anything\, please do still come along for a time of celebration.
URL:https://greatmissendenbaptistchurch.com/event/harvest-supper-bring-and-share/
LOCATION:Church Hall
END:VEVENT
BEGIN:VEVENT
DTSTART;TZID=UTC:20241007T193000
DTEND;TZID=UTC:20241007T213000
DTSTAMP:20260421T233127
CREATED:20240916T155541Z
LAST-MODIFIED:20240916T155541Z
UID:1354-1728329400-1728336600@greatmissendenbaptistchurch.com
SUMMARY:Film Night
DESCRIPTION:We will be showing the film “The Great Escaper”\, starring Michael Caine and Glenda Jackson. Free event\, with refreshments and popcorn. Do come along and watch at 7.30pm. \nFilm night poster 07 10 2024 The Great Escaper
URL:https://greatmissendenbaptistchurch.com/event/film-night-3/
LOCATION:Church
END:VEVENT
BEGIN:VEVENT
DTSTART;TZID=UTC:20241004T140000
DTEND;TZID=UTC:20241004T160000
DTSTAMP:20260421T233127
CREATED:20240916T154911Z
LAST-MODIFIED:20240916T154911Z
UID:1352-1728050400-1728057600@greatmissendenbaptistchurch.com
SUMMARY:Tea and Games
DESCRIPTION:Join us to play various card and board games\, or simply to chat with friendly people. Refreshments served at 3.00pm.
URL:https://greatmissendenbaptistchurch.com/event/tea-and-games-31/
LOCATION:Fellowship Room
END:VEVENT
BEGIN:VEVENT
DTSTART;TZID=UTC:20240920T140000
DTEND;TZID=UTC:20240920T160000
DTSTAMP:20260421T233127
CREATED:20240916T154751Z
LAST-MODIFIED:20240916T154751Z
UID:1350-1726840800-1726848000@greatmissendenbaptistchurch.com
SUMMARY:Tea and Games
DESCRIPTION:Join us to play a variety of card and board games\, or simply chat with friendly people. Refreshments served at 3.00pm.
URL:https://greatmissendenbaptistchurch.com/event/tea-and-games-30/
LOCATION:Fellowship Room
END:VEVENT
BEGIN:VEVENT
DTSTART;TZID=UTC:20240829T110000
DTEND;TZID=UTC:20240829T130000
DTSTAMP:20260421T233127
CREATED:20240718T090211Z
LAST-MODIFIED:20240718T090211Z
UID:1338-1724929200-1724936400@greatmissendenbaptistchurch.com
SUMMARY:Family Film
DESCRIPTION:We are showing the film “Wish” on Thursday 29th August at 11.00am. Buffet lunch afterwards. Free event – everyone welcome. \nFilm Wish 29 08 2024 poster
URL:https://greatmissendenbaptistchurch.com/event/family-film-6/
LOCATION:Church
END:VEVENT
BEGIN:VEVENT
DTSTART;TZID=UTC:20240822T110000
DTEND;TZID=UTC:20240822T130000
DTSTAMP:20260421T233127
CREATED:20240718T090034Z
LAST-MODIFIED:20240718T090034Z
UID:1336-1724324400-1724331600@greatmissendenbaptistchurch.com
SUMMARY:Family Film
DESCRIPTION:We are showing the film “The Little Mermaid” on Thursday 22nd August at 11.00am. Buffet lunch afterwards. Free event – everyone welcome. \nFilm Little Mermaid 22 08 2024 poster
URL:https://greatmissendenbaptistchurch.com/event/family-film-5/
LOCATION:Church
END:VEVENT
BEGIN:VEVENT
DTSTART;TZID=UTC:20240815T110000
DTEND;TZID=UTC:20240815T130000
DTSTAMP:20260421T233127
CREATED:20240718T085852Z
LAST-MODIFIED:20240718T085852Z
UID:1334-1723719600-1723726800@greatmissendenbaptistchurch.com
SUMMARY:Family Film
DESCRIPTION:We are showing the film “Wonka” on Thursday 15th August at 11.00am. Buffet lunch afterwards. Free event – everyone welcome. \nFilm Wonka 15 08 2024 poster
URL:https://greatmissendenbaptistchurch.com/event/family-film-4/
LOCATION:Church
END:VEVENT
BEGIN:VEVENT
DTSTART;TZID=UTC:20240808T110000
DTEND;TZID=UTC:20240808T130000
DTSTAMP:20260421T233127
CREATED:20240718T085616Z
LAST-MODIFIED:20240718T085616Z
UID:1328-1723114800-1723122000@greatmissendenbaptistchurch.com
SUMMARY:Family Film
DESCRIPTION:We are showing the film “101 Dalmatians” on Thursday 8th August at 11.00am. Buffet lunch afterwards. Free event – everyone welcome. \nFilm 101 Dalmations 08 08 2024 poster
URL:https://greatmissendenbaptistchurch.com/event/family-film-3/
LOCATION:Church
END:VEVENT
BEGIN:VEVENT
DTSTART;TZID=UTC:20240719T140000
DTEND;TZID=UTC:20240719T160000
DTSTAMP:20260421T233127
CREATED:20240708T091712Z
LAST-MODIFIED:20240708T092221Z
UID:1324-1721397600-1721404800@greatmissendenbaptistchurch.com
SUMMARY:Tea and Games
DESCRIPTION:Friday 19th July 2024 afternoon 2.00 – 4.00pm. Please join us to play a selection of board or card games\, or simply company and chat. Sandwiches\, cake\, tea and coffee served. Free event\, all welcome.
URL:https://greatmissendenbaptistchurch.com/event/tea-and-games-29/
LOCATION:Fellowship Room
END:VEVENT
BEGIN:VEVENT
DTSTART;TZID=UTC:20240715T193000
DTEND;TZID=UTC:20240715T213000
DTSTAMP:20260421T233127
CREATED:20240708T091504Z
LAST-MODIFIED:20240708T091504Z
UID:1321-1721071800-1721079000@greatmissendenbaptistchurch.com
SUMMARY:Film Night
DESCRIPTION:Film Night 15th July 2024 at 7.30pm. GMBC will be showing the film “The Bucket List” with refreshments available. Free event. \nFilm night poster The Bucket List 15 07 2024
URL:https://greatmissendenbaptistchurch.com/event/film-night-2/
LOCATION:Church
END:VEVENT
BEGIN:VEVENT
DTSTART;TZID=UTC:20240621T140000
DTEND;TZID=UTC:20240621T160000
DTSTAMP:20260421T233127
CREATED:20240523T082210Z
LAST-MODIFIED:20240523T082210Z
UID:1279-1718978400-1718985600@greatmissendenbaptistchurch.com
SUMMARY:Tea and Games
DESCRIPTION:Come and join like-minded people to play a variety of board or card games\, or simply to chat. Sandwiches\, cake\, and hot drinks served. Everyone welcome.
URL:https://greatmissendenbaptistchurch.com/event/tea-and-games-28/
LOCATION:Fellowship Room
END:VEVENT
BEGIN:VEVENT
DTSTART;TZID=UTC:20240607T140000
DTEND;TZID=UTC:20240607T160000
DTSTAMP:20260421T233127
CREATED:20240523T082025Z
LAST-MODIFIED:20240523T082025Z
UID:1277-1717768800-1717776000@greatmissendenbaptistchurch.com
SUMMARY:Tea and Games
DESCRIPTION:Come along to spend time with like-minded people to play a variety of board or card games\, or simply to chat. Sandwiches\, cake and hot drinks served.
URL:https://greatmissendenbaptistchurch.com/event/tea-and-games-27/
LOCATION:Fellowship Room
END:VEVENT
BEGIN:VEVENT
DTSTART;TZID=UTC:20240530T110000
DTEND;TZID=UTC:20240530T133000
DTSTAMP:20260421T233127
CREATED:20240523T081820Z
LAST-MODIFIED:20240523T081820Z
UID:1274-1717066800-1717075800@greatmissendenbaptistchurch.com
SUMMARY:Family Film
DESCRIPTION:We will be showing the film “Migration”\, suitable for all ages\, with a buffet lunch following. Free event\, everyone welcome. \nFilm Migration 30 05 24 poster
URL:https://greatmissendenbaptistchurch.com/event/family-film-2/
LOCATION:Church
END:VEVENT
BEGIN:VEVENT
DTSTART;TZID=UTC:20240316T140000
DTEND;TZID=UTC:20240316T220000
DTSTAMP:20260421T233127
CREATED:20240221T094142Z
LAST-MODIFIED:20240221T094142Z
UID:1263-1710597600-1710626400@greatmissendenbaptistchurch.com
SUMMARY:Six Nations Rugby
DESCRIPTION:TV coverage shown in church. Everyone welcome\, free event. Bacon rolls will be served between first two matches. You will need to supply your own meal between the second and third matches\, but happy for food to be brought into the church. \n14.15 Italy vs Wales (followed by bacon rolls) \n16.45 Ireland vs Scotland \n20.00 England vs France
URL:https://greatmissendenbaptistchurch.com/event/six-nations-rugby-7/
LOCATION:Great Missenden Baptist Church
END:VEVENT
BEGIN:VEVENT
DTSTART;TZID=UTC:20240315T140000
DTEND;TZID=UTC:20240315T160000
DTSTAMP:20260421T233127
CREATED:20240221T094339Z
LAST-MODIFIED:20240221T094339Z
UID:1265-1710511200-1710518400@greatmissendenbaptistchurch.com
SUMMARY:Tea and Games
DESCRIPTION:Join us to play board and card games\, or simply for company and chat. Sandwiches\, cakes and drinks served. Free event – donation only.
URL:https://greatmissendenbaptistchurch.com/event/tea-and-games-26/
END:VEVENT
BEGIN:VEVENT
DTSTART;TZID=UTC:20240311T193000
DTEND;TZID=UTC:20240311T213000
DTSTAMP:20260421T233127
CREATED:20240221T093815Z
LAST-MODIFIED:20240221T093815Z
UID:1261-1710185400-1710192600@greatmissendenbaptistchurch.com
SUMMARY:Film Night - Evan Almighty
DESCRIPTION:We will be showing the film “Evan Almighty” in the church. Free event\, collection will be taken to raise money for Christian Aid. Please see poster below. \nFilm night poster 11 03 2024 Evan Almighty Christian Aid
URL:https://greatmissendenbaptistchurch.com/event/film-night-evan-almighty/
LOCATION:Great Missenden Baptist Church
END:VEVENT
BEGIN:VEVENT
DTSTART;TZID=UTC:20240310T143000
DTEND;TZID=UTC:20240310T170000
DTSTAMP:20260421T233127
CREATED:20240221T093135Z
LAST-MODIFIED:20240221T093441Z
UID:1259-1710081000-1710090000@greatmissendenbaptistchurch.com
SUMMARY:Six Nations Rugby
DESCRIPTION:TV coverage shown in the church. Everyone welcome\, free event. \n15.00 France vs Wales
URL:https://greatmissendenbaptistchurch.com/event/six-nations-rugby-6/
LOCATION:Church
END:VEVENT
BEGIN:VEVENT
DTSTART;TZID=UTC:20240309T140000
DTEND;TZID=UTC:20240309T190000
DTSTAMP:20260421T233127
CREATED:20240221T093012Z
LAST-MODIFIED:20240221T093012Z
UID:1257-1709992800-1710010800@greatmissendenbaptistchurch.com
SUMMARY:Six Nations Rugby
DESCRIPTION:TV coverage shown in the church. Please come and join us. Free event\, with bacon roll served  between the games! \n14.15 Italy vs Scotland \n16.45 England vs Ireland
URL:https://greatmissendenbaptistchurch.com/event/six-nations-rugby-5/
LOCATION:Church
END:VEVENT
BEGIN:VEVENT
DTSTART;TZID=UTC:20240302T083000
DTEND;TZID=UTC:20240302T100000
DTSTAMP:20260421T233127
CREATED:20240205T153459Z
LAST-MODIFIED:20240205T153459Z
UID:1248-1709368200-1709373600@greatmissendenbaptistchurch.com
SUMMARY:Breakfast and Talk
DESCRIPTION:We are delighted to welcome Rev (Wg Cdr) Ashley Mitchell to speak to us. Breakfast has a choice of cooked or continental. Booking is essential. Cost of £5. Please see attached links to poster for more details. \nGMBC breakfast blurb RAF Chaplain 02 03 2024GMBC breakfast poster 02 03 2024
URL:https://greatmissendenbaptistchurch.com/event/breakfast-and-talk-3/
END:VEVENT
BEGIN:VEVENT
DTSTART;TZID=UTC:20240301T140000
DTEND;TZID=UTC:20240301T160000
DTSTAMP:20260421T233127
CREATED:20240205T153208Z
LAST-MODIFIED:20240205T153208Z
UID:1246-1709301600-1709308800@greatmissendenbaptistchurch.com
SUMMARY:Tea and Games
DESCRIPTION:Join us to play board and card games\, or simply for company and chat. Sandwiches\, cake\, tea and coffee served. Free event\, donations only. Everyone welcome.
URL:https://greatmissendenbaptistchurch.com/event/tea-and-games-25/
END:VEVENT
BEGIN:VEVENT
DTSTART;TZID=UTC:20240301T110000
DTEND;TZID=UTC:20240301T120000
DTSTAMP:20260421T233127
CREATED:20240221T092442Z
LAST-MODIFIED:20240221T092442Z
UID:1252-1709290800-1709294400@greatmissendenbaptistchurch.com
SUMMARY:World Day of Prayer
DESCRIPTION:A service with local churches joining together for the World Day of Prayer. See attached poster for details. \nWorld Day of Prayer 2024 poster
URL:https://greatmissendenbaptistchurch.com/event/world-day-of-prayer-2/
LOCATION:Great Missenden Baptist Church
END:VEVENT
BEGIN:VEVENT
DTSTART;TZID=UTC:20240225T143000
DTEND;TZID=UTC:20240225T170000
DTSTAMP:20260421T233127
CREATED:20240205T153059Z
LAST-MODIFIED:20240205T153059Z
UID:1244-1708871400-1708880400@greatmissendenbaptistchurch.com
SUMMARY:Six Nations Rugby
DESCRIPTION:TV coverage of France vs Italy (15:00) will be shown in the church. The church will be open 30 minutes before kick off. Free event\, everyone welcome.
URL:https://greatmissendenbaptistchurch.com/event/six-nations-rugby-4/
END:VEVENT
BEGIN:VEVENT
DTSTART;TZID=UTC:20240224T140000
DTEND;TZID=UTC:20240224T183000
DTSTAMP:20260421T233127
CREATED:20240205T152924Z
LAST-MODIFIED:20240205T152924Z
UID:1242-1708783200-1708799400@greatmissendenbaptistchurch.com
SUMMARY:Six Nations Rugby
DESCRIPTION:TV coverage of the games Ireland vs Wales (14:15) and England vs Scotland (16:45) will be shown in the church. Bacon rolls served between the matches. Free event\, donations only. Everyone welcome.
URL:https://greatmissendenbaptistchurch.com/event/six-nations-rugby-3/
END:VEVENT
BEGIN:VEVENT
DTSTART;TZID=UTC:20240216T140000
DTEND;TZID=UTC:20240216T160000
DTSTAMP:20260421T233127
CREATED:20240205T152722Z
LAST-MODIFIED:20240205T152722Z
UID:1240-1708092000-1708099200@greatmissendenbaptistchurch.com
SUMMARY:Tea and Games
DESCRIPTION:Join us to play board or card games\, or simply just to have company and a chat. Sandwiches\, cake\, tea and coffee served. Free event\, donations only.
URL:https://greatmissendenbaptistchurch.com/event/tea-and-games-24/
END:VEVENT
BEGIN:VEVENT
DTSTART;TZID=UTC:20240215T103000
DTEND;TZID=UTC:20240215T130000
DTSTAMP:20260421T233127
CREATED:20240205T152558Z
LAST-MODIFIED:20240205T152558Z
UID:1237-1707993000-1708002000@greatmissendenbaptistchurch.com
SUMMARY:Family Film
DESCRIPTION:The film “Leo Da Vinci” will be shown in the church at 10.30am with a light buffet lunch afterwards. Free event\, donations only\, everyone welcome. \nFilm Leo Da Vinci 15 02 2024 poster
URL:https://greatmissendenbaptistchurch.com/event/family-film/
END:VEVENT
BEGIN:VEVENT
DTSTART;TZID=UTC:20240211T143000
DTEND;TZID=UTC:20240211T170000
DTSTAMP:20260421T233127
CREATED:20240205T152324Z
LAST-MODIFIED:20240205T152324Z
UID:1235-1707661800-1707670800@greatmissendenbaptistchurch.com
SUMMARY:Six Nations Rugby
DESCRIPTION:TV coverage will be shown in the church of the Ireland vs Italy match (15:00). The church will be open 30 minutes before kick off. Free event\, everyone welcome.
URL:https://greatmissendenbaptistchurch.com/event/six-nations-rugby-2/
END:VEVENT
BEGIN:VEVENT
DTSTART;TZID=UTC:20240210T140000
DTEND;TZID=UTC:20240210T183000
DTSTAMP:20260421T233127
CREATED:20240205T152130Z
LAST-MODIFIED:20240205T152130Z
UID:1233-1707573600-1707589800@greatmissendenbaptistchurch.com
SUMMARY:Six Nations Rugby
DESCRIPTION:TV Coverage will be shown in the church of France vs Scotland (14:15) and England vs Wales (16:45). The church will be open 30 minutes before kick off.
URL:https://greatmissendenbaptistchurch.com/event/six-nations-rugby/
END:VEVENT
END:VCALENDAR