BEGIN:VCALENDAR
VERSION:2.0
PRODID:-//Great Missenden Baptist Church - ECPv6.15.20//NONSGML v1.0//EN
CALSCALE:GREGORIAN
METHOD:PUBLISH
X-ORIGINAL-URL:https://greatmissendenbaptistchurch.com
X-WR-CALDESC:Events for Great Missenden Baptist Church
REFRESH-INTERVAL;VALUE=DURATION:PT1H
X-Robots-Tag:noindex
X-PUBLISHED-TTL:PT1H
BEGIN:VTIMEZONE
TZID:UTC
BEGIN:STANDARD
TZOFFSETFROM:+0000
TZOFFSETTO:+0000
TZNAME:UTC
DTSTART:20230101T000000
END:STANDARD
END:VTIMEZONE
BEGIN:VEVENT
DTSTART;TZID=UTC:20241101T140000
DTEND;TZID=UTC:20241101T160000
DTSTAMP:20260424T121542
CREATED:20241018T091120Z
LAST-MODIFIED:20241018T091224Z
UID:1371-1730469600-1730476800@greatmissendenbaptistchurch.com
SUMMARY:Tea and Games
DESCRIPTION:Join us to play a variety of board or card games\, or simply to chat with a group of friendly people between 2.00 – 4.00pm. Refreshments are served at 3.00pm. Free event.
URL:https://greatmissendenbaptistchurch.com/event/tea-and-games-33/
LOCATION:Fellowship Room
END:VEVENT
BEGIN:VEVENT
DTSTART;TZID=UTC:20241115T140000
DTEND;TZID=UTC:20241115T160000
DTSTAMP:20260424T121542
CREATED:20241018T091313Z
LAST-MODIFIED:20241018T091313Z
UID:1373-1731679200-1731686400@greatmissendenbaptistchurch.com
SUMMARY:Tea and Games
DESCRIPTION:Join us to play a variety of board or card games\, or simply to chat with a group of friendly people between 2.00 – 4.00pm. Refreshments are served at 3.00pm. Free event.
URL:https://greatmissendenbaptistchurch.com/event/tea-and-games-34/
LOCATION:Fellowship Room
END:VEVENT
BEGIN:VEVENT
DTSTART;TZID=UTC:20241123T150000
DTEND;TZID=UTC:20241123T180000
DTSTAMP:20260424T121542
CREATED:20241018T091953Z
LAST-MODIFIED:20241018T091953Z
UID:1380-1732374000-1732384800@greatmissendenbaptistchurch.com
SUMMARY:Village Festive Evening
DESCRIPTION:The church will be open during the village festival. Free tea\, coffee and hot chocolate. There will be an opportunity to make a Christmas decoration or craft\, with a selection of films showing. Everyone is welcome.
URL:https://greatmissendenbaptistchurch.com/event/village-festive-evening/
LOCATION:Church
END:VEVENT
END:VCALENDAR